BEGIN:VCALENDAR
VERSION:2.0
PRODID:-//Jefferson Boys Soccer - ECPv6.15.17.1//NONSGML v1.0//EN
CALSCALE:GREGORIAN
METHOD:PUBLISH
X-ORIGINAL-URL:https://jaguarboyssoccer.com
X-WR-CALDESC:Events for Jefferson Boys Soccer
REFRESH-INTERVAL;VALUE=DURATION:PT1H
X-Robots-Tag:noindex
X-PUBLISHED-TTL:PT1H
BEGIN:VTIMEZONE
TZID:America/Chicago
BEGIN:DAYLIGHT
TZOFFSETFROM:-0600
TZOFFSETTO:-0500
TZNAME:CDT
DTSTART:20220313T080000
END:DAYLIGHT
BEGIN:STANDARD
TZOFFSETFROM:-0500
TZOFFSETTO:-0600
TZNAME:CST
DTSTART:20221106T070000
END:STANDARD
BEGIN:DAYLIGHT
TZOFFSETFROM:-0600
TZOFFSETTO:-0500
TZNAME:CDT
DTSTART:20230312T080000
END:DAYLIGHT
BEGIN:STANDARD
TZOFFSETFROM:-0500
TZOFFSETTO:-0600
TZNAME:CST
DTSTART:20231105T070000
END:STANDARD
BEGIN:DAYLIGHT
TZOFFSETFROM:-0600
TZOFFSETTO:-0500
TZNAME:CDT
DTSTART:20240310T080000
END:DAYLIGHT
BEGIN:STANDARD
TZOFFSETFROM:-0500
TZOFFSETTO:-0600
TZNAME:CST
DTSTART:20241103T070000
END:STANDARD
BEGIN:DAYLIGHT
TZOFFSETFROM:-0600
TZOFFSETTO:-0500
TZNAME:CDT
DTSTART:20250309T080000
END:DAYLIGHT
BEGIN:STANDARD
TZOFFSETFROM:-0500
TZOFFSETTO:-0600
TZNAME:CST
DTSTART:20251102T070000
END:STANDARD
END:VTIMEZONE
BEGIN:VEVENT
DTSTART;TZID=America/Chicago:20240820T120000
DTEND;TZID=America/Chicago:20240820T150000
DTSTAMP:20260419T205549
CREATED:20240801T210824Z
LAST-MODIFIED:20240801T210824Z
UID:1904-1724155200-1724166000@jaguarboyssoccer.com
SUMMARY:Scrimmage vs. Prior Lake
DESCRIPTION:All squads will be scrimmaging Prior Lake\, with kick off at 12:30 PM for all levels. This is an away scrimmage\, and there is no bus for the event. Players will need to get transportation to and from the game.  \n 
URL:https://jaguarboyssoccer.com/event/scrimmage-vs-prior-lake/
LOCATION:MN
CATEGORIES:B Team,JV,Varsity
END:VEVENT
BEGIN:VEVENT
DTSTART;TZID=America/Chicago:20240817T140000
DTEND;TZID=America/Chicago:20240817T180000
DTSTAMP:20260419T205549
CREATED:20240801T210511Z
LAST-MODIFIED:20240801T210511Z
UID:1900-1723903200-1723917600@jaguarboyssoccer.com
SUMMARY:Program Picnic
DESCRIPTION:After our Saturday Scrimmage\, all teams and players will be going to West Bush Lake Beach to have a program picnic! \n  \nMore details are coming soon!
URL:https://jaguarboyssoccer.com/event/program-picnic/
LOCATION:MN
CATEGORIES:B Team,Booster Club,JV,Varsity
END:VEVENT
BEGIN:VEVENT
DTSTART;TZID=America/Chicago:20240816T170000
DTEND;TZID=America/Chicago:20240816T200000
DTSTAMP:20260419T205549
CREATED:20240801T210336Z
LAST-MODIFIED:20240801T210336Z
UID:1898-1723827600-1723838400@jaguarboyssoccer.com
SUMMARY:Coupon Card Blitz
DESCRIPTION:All players are required to attend this as it replaces a practice. Players will be grouped up with others and will sell coupon cards or request donations door-to-door for a few hours. Parent drivers are required for this to be successful\, so please volunteer and sign up to help us out! \nAll players will be able to eat pizza prior to the event and prizes will be awarded to players based on their sales.
URL:https://jaguarboyssoccer.com/event/coupon-card-blitz/
LOCATION:Jefferson High School\, 4001 W 102nd St\, Bloomington\, MN\, 55437\, United States
CATEGORIES:B Team,Booster Club,JV,Varsity
END:VEVENT
BEGIN:VEVENT
DTSTART;TZID=America/Chicago:20240814T160000
DTEND;TZID=America/Chicago:20240814T173000
DTSTAMP:20260419T205549
CREATED:20240801T210010Z
LAST-MODIFIED:20240801T210010Z
UID:1894-1723651200-1723656600@jaguarboyssoccer.com
SUMMARY:Tryout Session 6
DESCRIPTION:All registered players will be divided into two groups – A and B. Groups do not indicate anything other than age for Day 1. For Days 2 and 3\, we will shuffle players around to see them play and compete against other players of different ages. This has nothing to do with roster placement and is a way for coaches to see how groupings change the way a player performs. \nPlease watch this website for group changes after each day.
URL:https://jaguarboyssoccer.com/event/tryout-session-6/
LOCATION:Jefferson High School\, 4001 W 102nd St\, Bloomington\, MN\, 55437\, United States
CATEGORIES:B Team,JV,Varsity
END:VEVENT
BEGIN:VEVENT
DTSTART;TZID=America/Chicago:20240814T110000
DTEND;TZID=America/Chicago:20240814T123000
DTSTAMP:20260419T205549
CREATED:20240801T205941Z
LAST-MODIFIED:20240801T205941Z
UID:1892-1723633200-1723638600@jaguarboyssoccer.com
SUMMARY:Tryout Session 5
DESCRIPTION:All registered players will be divided into two groups – A and B. Groups do not indicate anything other than age for Day 1. For Days 2 and 3\, we will shuffle players around to see them play and compete against other players of different ages. This has nothing to do with roster placement and is a way for coaches to see how groupings change the way a player performs. \nPlease watch this website for group changes after each day.
URL:https://jaguarboyssoccer.com/event/tryout-session-5/
LOCATION:Jefferson High School\, 4001 W 102nd St\, Bloomington\, MN\, 55437\, United States
CATEGORIES:B Team,JV,Varsity
END:VEVENT
BEGIN:VEVENT
DTSTART;TZID=America/Chicago:20240813T160000
DTEND;TZID=America/Chicago:20240813T173000
DTSTAMP:20260419T205549
CREATED:20240801T205908Z
LAST-MODIFIED:20240801T205908Z
UID:1890-1723564800-1723570200@jaguarboyssoccer.com
SUMMARY:Tryout Session 4
DESCRIPTION:All registered players will be divided into two groups – A and B. Groups do not indicate anything other than age for Day 1. For Days 2 and 3\, we will shuffle players around to see them play and compete against other players of different ages. This has nothing to do with roster placement and is a way for coaches to see how groupings change the way a player performs. \nPlease watch this website for group changes after each day.
URL:https://jaguarboyssoccer.com/event/tryout-session-4/
LOCATION:Jefferson High School\, 4001 W 102nd St\, Bloomington\, MN\, 55437\, United States
CATEGORIES:B Team,JV,Varsity
END:VEVENT
BEGIN:VEVENT
DTSTART;TZID=America/Chicago:20240813T110000
DTEND;TZID=America/Chicago:20240813T123000
DTSTAMP:20260419T205549
CREATED:20240801T205832Z
LAST-MODIFIED:20240801T211111Z
UID:1888-1723546800-1723552200@jaguarboyssoccer.com
SUMMARY:Tryout Session 3
DESCRIPTION:All registered players will be divided into two groups – A and B. Groups do not indicate anything other than age for Day 1. For Days 2 and 3\, we will shuffle players around to see them play and compete against other players of different ages. This has nothing to do with roster placement and is a way for coaches to see how groupings change the way a player performs. \nPlease watch this website for group changes after each day.
URL:https://jaguarboyssoccer.com/event/tryout-session-3/
LOCATION:Jefferson High School\, 4001 W 102nd St\, Bloomington\, MN\, 55437\, United States
CATEGORIES:B Team,JV,Varsity
END:VEVENT
BEGIN:VEVENT
DTSTART;TZID=America/Chicago:20240812T160000
DTEND;TZID=America/Chicago:20240812T173000
DTSTAMP:20260419T205549
CREATED:20240801T205801Z
LAST-MODIFIED:20240801T211052Z
UID:1886-1723478400-1723483800@jaguarboyssoccer.com
SUMMARY:Tryouts Session 2
DESCRIPTION:All registered players will be divided into two groups – A and B. Groups do not indicate anything other than age for Day 1. For Days 2 and 3\, we will shuffle players around to see them play and compete against other players of different ages. This has nothing to do with roster placement and is a way for coaches to see how groupings change the way a player performs. \nPlease watch this website for group changes after each day.
URL:https://jaguarboyssoccer.com/event/tryouts-session-2/
LOCATION:Jefferson High School\, 4001 W 102nd St\, Bloomington\, MN\, 55437\, United States
CATEGORIES:B Team,JV,Varsity
END:VEVENT
BEGIN:VEVENT
DTSTART;TZID=America/Chicago:20240812T110000
DTEND;TZID=America/Chicago:20240812T123000
DTSTAMP:20260419T205549
CREATED:20240801T205730Z
LAST-MODIFIED:20240801T205730Z
UID:1884-1723460400-1723465800@jaguarboyssoccer.com
SUMMARY:Tryout Session 1
DESCRIPTION:All registered players will be divided into two groups – A and B. Groups do not indicate anything other than age for Day 1. For Days 2 and 3\, we will shuffle players around to see them play and compete against other players of different ages. This has nothing to do with roster placement and is a way for coaches to see how groupings change the way a player performs. \nPlease watch this website for group changes after each day.
URL:https://jaguarboyssoccer.com/event/tryout-session-1/
LOCATION:Jefferson High School\, 4001 W 102nd St\, Bloomington\, MN\, 55437\, United States
CATEGORIES:B Team,JV,Varsity
END:VEVENT
BEGIN:VEVENT
DTSTART;TZID=America/Chicago:20240809T110000
DTEND;TZID=America/Chicago:20240809T130000
DTSTAMP:20260419T205549
CREATED:20240520T145912Z
LAST-MODIFIED:20240520T145912Z
UID:1857-1723201200-1723208400@jaguarboyssoccer.com
SUMMARY:Captains Practice - August 9th
DESCRIPTION:Captains Practices have been finalized and updated on the school field calendar. Although we’ll have Captains Practices all summer long on Monday\, Wednesday\, and Thursday (starting June 3rd\, 10:00-12:30\, at Brookside Park)\, these are the traditional two-week sessions prior to the start of the season. \nThese sessions will take place starting on July 29th and run Monday through Friday from 11:00 AM to 1:00 PM. All of these sessions will be on the turf field at Jefferson High School. A parent will need to be present for all of these sessions. This is also a “No Contact” period for all coaches with the high school program\, so coaches cannot attend or be involved in any way for these sessions. \nThese are a great chance to get some final tune-ups prior to tryouts! Playing on turf is very different from grass for those players that have not used turf as often. Attendance for these two weeks is highly encouraged!
URL:https://jaguarboyssoccer.com/event/captains-practice-august-9th/
LOCATION:Jefferson High School\, 4001 W 102nd St\, Bloomington\, MN\, 55437\, United States
CATEGORIES:B Team,JV,Varsity
END:VEVENT
BEGIN:VEVENT
DTSTART;TZID=America/Chicago:20240808T110000
DTEND;TZID=America/Chicago:20240808T130000
DTSTAMP:20260419T205549
CREATED:20240520T145841Z
LAST-MODIFIED:20240520T145841Z
UID:1855-1723114800-1723122000@jaguarboyssoccer.com
SUMMARY:Captains Practice - August 8th
DESCRIPTION:Captains Practices have been finalized and updated on the school field calendar. Although we’ll have Captains Practices all summer long on Monday\, Wednesday\, and Thursday (starting June 3rd\, 10:00-12:30\, at Brookside Park)\, these are the traditional two-week sessions prior to the start of the season. \nThese sessions will take place starting on July 29th and run Monday through Friday from 11:00 AM to 1:00 PM. All of these sessions will be on the turf field at Jefferson High School. A parent will need to be present for all of these sessions. This is also a “No Contact” period for all coaches with the high school program\, so coaches cannot attend or be involved in any way for these sessions. \nThese are a great chance to get some final tune-ups prior to tryouts! Playing on turf is very different from grass for those players that have not used turf as often. Attendance for these two weeks is highly encouraged!
URL:https://jaguarboyssoccer.com/event/captains-practice-august-8th/
LOCATION:Jefferson High School\, 4001 W 102nd St\, Bloomington\, MN\, 55437\, United States
CATEGORIES:B Team,JV,Varsity
END:VEVENT
BEGIN:VEVENT
DTSTART;TZID=America/Chicago:20240807T110000
DTEND;TZID=America/Chicago:20240807T130000
DTSTAMP:20260419T205549
CREATED:20240520T145810Z
LAST-MODIFIED:20240520T145810Z
UID:1853-1723028400-1723035600@jaguarboyssoccer.com
SUMMARY:Captains Practice - August 7th
DESCRIPTION:Captains Practices have been finalized and updated on the school field calendar. Although we’ll have Captains Practices all summer long on Monday\, Wednesday\, and Thursday (starting June 3rd\, 10:00-12:30\, at Brookside Park)\, these are the traditional two-week sessions prior to the start of the season. \nThese sessions will take place starting on July 29th and run Monday through Friday from 11:00 AM to 1:00 PM. All of these sessions will be on the turf field at Jefferson High School. A parent will need to be present for all of these sessions. This is also a “No Contact” period for all coaches with the high school program\, so coaches cannot attend or be involved in any way for these sessions. \nThese are a great chance to get some final tune-ups prior to tryouts! Playing on turf is very different from grass for those players that have not used turf as often. Attendance for these two weeks is highly encouraged!
URL:https://jaguarboyssoccer.com/event/captains-practice-august-7th/
LOCATION:Jefferson High School\, 4001 W 102nd St\, Bloomington\, MN\, 55437\, United States
CATEGORIES:B Team,JV,Varsity
END:VEVENT
BEGIN:VEVENT
DTSTART;TZID=America/Chicago:20240806T110000
DTEND;TZID=America/Chicago:20240806T130000
DTSTAMP:20260419T205549
CREATED:20240520T145731Z
LAST-MODIFIED:20240520T145731Z
UID:1851-1722942000-1722949200@jaguarboyssoccer.com
SUMMARY:Captains Practice - August 6th
DESCRIPTION:Captains Practices have been finalized and updated on the school field calendar. Although we’ll have Captains Practices all summer long on Monday\, Wednesday\, and Thursday (starting June 3rd\, 10:00-12:30\, at Brookside Park)\, these are the traditional two-week sessions prior to the start of the season. \nThese sessions will take place starting on July 29th and run Monday through Friday from 11:00 AM to 1:00 PM. All of these sessions will be on the turf field at Jefferson High School. A parent will need to be present for all of these sessions. This is also a “No Contact” period for all coaches with the high school program\, so coaches cannot attend or be involved in any way for these sessions. \nThese are a great chance to get some final tune-ups prior to tryouts! Playing on turf is very different from grass for those players that have not used turf as often. Attendance for these two weeks is highly encouraged!
URL:https://jaguarboyssoccer.com/event/captains-practice-august-6th/
LOCATION:Jefferson High School\, 4001 W 102nd St\, Bloomington\, MN\, 55437\, United States
CATEGORIES:B Team,JV,Varsity
END:VEVENT
BEGIN:VEVENT
DTSTART;TZID=America/Chicago:20240805T110000
DTEND;TZID=America/Chicago:20240805T130000
DTSTAMP:20260419T205549
CREATED:20240520T145652Z
LAST-MODIFIED:20240520T145652Z
UID:1849-1722855600-1722862800@jaguarboyssoccer.com
SUMMARY:Captains Practice - August 5th
DESCRIPTION:Captains Practices have been finalized and updated on the school field calendar. Although we’ll have Captains Practices all summer long on Monday\, Wednesday\, and Thursday (starting June 3rd\, 10:00-12:30\, at Brookside Park)\, these are the traditional two-week sessions prior to the start of the season. \nThese sessions will take place starting on July 29th and run Monday through Friday from 11:00 AM to 1:00 PM. All of these sessions will be on the turf field at Jefferson High School. A parent will need to be present for all of these sessions. This is also a “No Contact” period for all coaches with the high school program\, so coaches cannot attend or be involved in any way for these sessions. \nThese are a great chance to get some final tune-ups prior to tryouts! Playing on turf is very different from grass for those players that have not used turf as often. Attendance for these two weeks is highly encouraged!
URL:https://jaguarboyssoccer.com/event/captains-practice-august-5th/
LOCATION:Jefferson High School\, 4001 W 102nd St\, Bloomington\, MN\, 55437\, United States
CATEGORIES:B Team,JV,Varsity
END:VEVENT
BEGIN:VEVENT
DTSTART;TZID=America/Chicago:20240802T110000
DTEND;TZID=America/Chicago:20240802T130000
DTSTAMP:20260419T205549
CREATED:20240520T145616Z
LAST-MODIFIED:20240520T145616Z
UID:1847-1722596400-1722603600@jaguarboyssoccer.com
SUMMARY:Captains Practice - August 2nd
DESCRIPTION:Captains Practices have been finalized and updated on the school field calendar. Although we’ll have Captains Practices all summer long on Monday\, Wednesday\, and Thursday (starting June 3rd\, 10:00-12:30\, at Brookside Park)\, these are the traditional two-week sessions prior to the start of the season. \nThese sessions will take place starting on July 29th and run Monday through Friday from 11:00 AM to 1:00 PM. All of these sessions will be on the turf field at Jefferson High School. A parent will need to be present for all of these sessions. This is also a “No Contact” period for all coaches with the high school program\, so coaches cannot attend or be involved in any way for these sessions. \nThese are a great chance to get some final tune-ups prior to tryouts! Playing on turf is very different from grass for those players that have not used turf as often. Attendance for these two weeks is highly encouraged!
URL:https://jaguarboyssoccer.com/event/captains-practice-august-2nd/
LOCATION:Jefferson High School\, 4001 W 102nd St\, Bloomington\, MN\, 55437\, United States
CATEGORIES:B Team,JV,Varsity
END:VEVENT
BEGIN:VEVENT
DTSTART;TZID=America/Chicago:20240801T110000
DTEND;TZID=America/Chicago:20240801T130000
DTSTAMP:20260419T205549
CREATED:20240520T145543Z
LAST-MODIFIED:20240520T145543Z
UID:1845-1722510000-1722517200@jaguarboyssoccer.com
SUMMARY:Captains Practice - August 1st
DESCRIPTION:Captains Practices have been finalized and updated on the school field calendar. Although we’ll have Captains Practices all summer long on Monday\, Wednesday\, and Thursday (starting June 3rd\, 10:00-12:30\, at Brookside Park)\, these are the traditional two-week sessions prior to the start of the season. \nThese sessions will take place starting on July 29th and run Monday through Friday from 11:00 AM to 1:00 PM. All of these sessions will be on the turf field at Jefferson High School. A parent will need to be present for all of these sessions. This is also a “No Contact” period for all coaches with the high school program\, so coaches cannot attend or be involved in any way for these sessions. \nThese are a great chance to get some final tune-ups prior to tryouts! Playing on turf is very different from grass for those players that have not used turf as often. Attendance for these two weeks is highly encouraged!
URL:https://jaguarboyssoccer.com/event/captains-practice-august-1st/
LOCATION:Jefferson High School\, 4001 W 102nd St\, Bloomington\, MN\, 55437\, United States
CATEGORIES:B Team,JV,Varsity
END:VEVENT
BEGIN:VEVENT
DTSTART;TZID=America/Chicago:20240731T110000
DTEND;TZID=America/Chicago:20240731T130000
DTSTAMP:20260419T205549
CREATED:20240520T145510Z
LAST-MODIFIED:20240520T145510Z
UID:1843-1722423600-1722430800@jaguarboyssoccer.com
SUMMARY:Captains Practice - July 31st
DESCRIPTION:Captains Practices have been finalized and updated on the school field calendar. Although we’ll have Captains Practices all summer long on Monday\, Wednesday\, and Thursday (starting June 3rd\, 10:00-12:30\, at Brookside Park)\, these are the traditional two-week sessions prior to the start of the season. \nThese sessions will take place starting on July 29th and run Monday through Friday from 11:00 AM to 1:00 PM. All of these sessions will be on the turf field at Jefferson High School. A parent will need to be present for all of these sessions. This is also a “No Contact” period for all coaches with the high school program\, so coaches cannot attend or be involved in any way for these sessions. \nThese are a great chance to get some final tune-ups prior to tryouts! Playing on turf is very different from grass for those players that have not used turf as often. Attendance for these two weeks is highly encouraged!
URL:https://jaguarboyssoccer.com/event/captains-practice-july-31st/
LOCATION:Jefferson High School\, 4001 W 102nd St\, Bloomington\, MN\, 55437\, United States
CATEGORIES:B Team,JV,Varsity
END:VEVENT
BEGIN:VEVENT
DTSTART;TZID=America/Chicago:20240730T110000
DTEND;TZID=America/Chicago:20240730T130000
DTSTAMP:20260419T205549
CREATED:20240520T145439Z
LAST-MODIFIED:20240520T145439Z
UID:1841-1722337200-1722344400@jaguarboyssoccer.com
SUMMARY:Captains Practice - July 30th
DESCRIPTION:Captains Practices have been finalized and updated on the school field calendar. Although we’ll have Captains Practices all summer long on Monday\, Wednesday\, and Thursday (starting June 3rd\, 10:00-12:30\, at Brookside Park)\, these are the traditional two-week sessions prior to the start of the season. \nThese sessions will take place starting on July 29th and run Monday through Friday from 11:00 AM to 1:00 PM. All of these sessions will be on the turf field at Jefferson High School. A parent will need to be present for all of these sessions. This is also a “No Contact” period for all coaches with the high school program\, so coaches cannot attend or be involved in any way for these sessions. \nThese are a great chance to get some final tune-ups prior to tryouts! Playing on turf is very different from grass for those players that have not used turf as often. Attendance for these two weeks is highly encouraged!
URL:https://jaguarboyssoccer.com/event/captains-practice-july-30th/
LOCATION:Jefferson High School\, 4001 W 102nd St\, Bloomington\, MN\, 55437\, United States
CATEGORIES:B Team,JV,Varsity
END:VEVENT
BEGIN:VEVENT
DTSTART;TZID=America/Chicago:20240729T110000
DTEND;TZID=America/Chicago:20240729T130000
DTSTAMP:20260419T205549
CREATED:20240520T145338Z
LAST-MODIFIED:20240520T145338Z
UID:1839-1722250800-1722258000@jaguarboyssoccer.com
SUMMARY:Captains Practice - July 29th
DESCRIPTION:Captains Practices have been finalized and updated on the school field calendar. Although we’ll have Captains Practices all summer long on Monday\, Wednesday\, and Thursday (starting June 3rd\, 10:00-12:30\, at Brookside Park)\, these are the traditional two-week sessions prior to the start of the season. \nThese sessions will take place starting on July 29th and run Monday through Friday from 11:00 AM to 1:00 PM. All of these sessions will be on the turf field at Jefferson High School. A parent will need to be present for all of these sessions. This is also a “No Contact” period for all coaches with the high school program\, so coaches cannot attend or be involved in any way for these sessions. \nThese are a great chance to get some final tune-ups prior to tryouts! Playing on turf is very different from grass for those players that have not used turf as often. Attendance for these two weeks is highly encouraged!
URL:https://jaguarboyssoccer.com/event/captains-practice-july-29th/
LOCATION:Jefferson High School\, 4001 W 102nd St\, Bloomington\, MN\, 55437\, United States
CATEGORIES:B Team,JV,Varsity
END:VEVENT
BEGIN:VEVENT
DTSTART;TZID=America/Chicago:20231106T180000
DTEND;TZID=America/Chicago:20231106T193000
DTSTAMP:20260419T205549
CREATED:20230308T010528Z
LAST-MODIFIED:20231022T041952Z
UID:1378-1699293600-1699299000@jaguarboyssoccer.com
SUMMARY:Banquet
DESCRIPTION:
URL:https://jaguarboyssoccer.com/event/banquet-2/
LOCATION:Minnesota Valley Country Club\, 6300 Auto Club Rd\, Bloomington\, MN\, 55438\, United States
CATEGORIES:B Team,Booster Club,JV,Varsity
END:VEVENT
BEGIN:VEVENT
DTSTART;TZID=America/Chicago:20231005T154500
DTEND;TZID=America/Chicago:20231005T171500
DTSTAMP:20260419T205549
CREATED:20230731T022253Z
LAST-MODIFIED:20231005T165209Z
UID:1435-1696520700-1696526100@jaguarboyssoccer.com
SUMMARY:B @ Chanhassen
DESCRIPTION:Bus Leaves: 2:30pm \nBus Return: 5:15pm
URL:https://jaguarboyssoccer.com/event/b-chanhassen/
LOCATION:Bandimere Park\, 9405 Great Plains Blvd\, Chanhassen\, MN\, 55317\, United States
CATEGORIES:B Team
END:VEVENT
BEGIN:VEVENT
DTSTART;TZID=America/Chicago:20231004T160000
DTEND;TZID=America/Chicago:20231004T173000
DTSTAMP:20260419T205549
CREATED:20230731T022252Z
LAST-MODIFIED:20231003T114854Z
UID:1432-1696435200-1696440600@jaguarboyssoccer.com
SUMMARY:B vs Kennedy
DESCRIPTION:BUS LEAVES: 3:15PM CDT\nEST.RETURN TIME: 5:30PM CDT
URL:https://jaguarboyssoccer.com/event/b-vs-kennedy/
LOCATION:Kennedy High School\, 9701 Nicollet Avenue S\, Bloomington\, MN\, 55420\, United States
CATEGORIES:B Team
END:VEVENT
BEGIN:VEVENT
DTSTART;TZID=America/Chicago:20231003T160000
DTEND;TZID=America/Chicago:20231003T173000
DTSTAMP:20260419T205549
CREATED:20230731T022252Z
LAST-MODIFIED:20230731T022252Z
UID:1434-1696348800-1696354200@jaguarboyssoccer.com
SUMMARY:B @ Eastview
DESCRIPTION:
URL:https://jaguarboyssoccer.com/event/b-eastview/
LOCATION:Eastview High School\, 6200 140th Street West\, Apple Valley\, MN\, 55124\, United States
CATEGORIES:B Team
END:VEVENT
BEGIN:VEVENT
DTSTART;TZID=America/Chicago:20231002T144500
DTEND;TZID=America/Chicago:20231002T163000
DTSTAMP:20260419T205549
CREATED:20230820T194907Z
LAST-MODIFIED:20230820T195137Z
UID:1525-1696257900-1696264200@jaguarboyssoccer.com
SUMMARY:Training
DESCRIPTION:
URL:https://jaguarboyssoccer.com/event/training-62/
LOCATION:Jefferson High School\, 4001 W 102nd St\, Bloomington\, MN\, 55437\, United States
CATEGORIES:B Team,JV,Varsity
END:VEVENT
BEGIN:VEVENT
DTSTART;TZID=America/Chicago:20230929T160000
DTEND;TZID=America/Chicago:20230929T173000
DTSTAMP:20260419T205549
CREATED:20230731T022252Z
LAST-MODIFIED:20230731T022252Z
UID:1433-1696003200-1696008600@jaguarboyssoccer.com
SUMMARY:B vs Chaska
DESCRIPTION:
URL:https://jaguarboyssoccer.com/event/b-vs-chaska/
LOCATION:Jefferson High School\, 4001 W 102nd St\, Bloomington\, MN\, 55437\, United States
CATEGORIES:B Team
END:VEVENT
BEGIN:VEVENT
DTSTART;TZID=America/Chicago:20230928T144500
DTEND;TZID=America/Chicago:20230928T163000
DTSTAMP:20260419T205549
CREATED:20230820T195137Z
LAST-MODIFIED:20230820T195137Z
UID:1551-1695912300-1695918600@jaguarboyssoccer.com
SUMMARY:Training
DESCRIPTION:
URL:https://jaguarboyssoccer.com/event/training-81/
LOCATION:Jefferson High School\, 4001 W 102nd St\, Bloomington\, MN\, 55437\, United States
CATEGORIES:B Team
END:VEVENT
BEGIN:VEVENT
DTSTART;TZID=America/Chicago:20230927T144500
DTEND;TZID=America/Chicago:20230927T163000
DTSTAMP:20260419T205549
CREATED:20230820T195137Z
LAST-MODIFIED:20230926T220625Z
UID:1550-1695825900-1695832200@jaguarboyssoccer.com
SUMMARY:Training
DESCRIPTION:
URL:https://jaguarboyssoccer.com/event/training-80/
LOCATION:Jefferson High School\, 4001 W 102nd St\, Bloomington\, MN\, 55437\, United States
CATEGORIES:B Team
END:VEVENT
BEGIN:VEVENT
DTSTART;TZID=America/Chicago:20230926T144500
DTEND;TZID=America/Chicago:20230926T163000
DTSTAMP:20260419T205549
CREATED:20230820T195123Z
LAST-MODIFIED:20230820T195123Z
UID:1549-1695739500-1695745800@jaguarboyssoccer.com
SUMMARY:Training
DESCRIPTION:
URL:https://jaguarboyssoccer.com/event/training-79/
LOCATION:Jefferson High School\, 4001 W 102nd St\, Bloomington\, MN\, 55437\, United States
CATEGORIES:B Team,JV,Varsity
END:VEVENT
BEGIN:VEVENT
DTSTART;TZID=America/Chicago:20230922T173000
DTEND;TZID=America/Chicago:20230922T190000
DTSTAMP:20260419T205549
CREATED:20230731T022237Z
LAST-MODIFIED:20230820T192035Z
UID:1431-1695403800-1695409200@jaguarboyssoccer.com
SUMMARY:B @ Orono
DESCRIPTION:Bus leaves 4:00pm \nBus returns 7:15pm
URL:https://jaguarboyssoccer.com/event/b-orono/
LOCATION:Orono High School\, 795 Old Crystal Bay Rd N\, Orono\, MN\, 55356\, United States
CATEGORIES:B Team
END:VEVENT
BEGIN:VEVENT
DTSTART;TZID=America/Chicago:20230921T144500
DTEND;TZID=America/Chicago:20230921T163000
DTSTAMP:20260419T205549
CREATED:20230820T195122Z
LAST-MODIFIED:20230820T195122Z
UID:1547-1695307500-1695313800@jaguarboyssoccer.com
SUMMARY:Training
DESCRIPTION:
URL:https://jaguarboyssoccer.com/event/training-77/
LOCATION:Jefferson High School\, 4001 W 102nd St\, Bloomington\, MN\, 55437\, United States
CATEGORIES:B Team,JV,Varsity
END:VEVENT
END:VCALENDAR