BEGIN:VCALENDAR
VERSION:2.0
PRODID:-//Jefferson Boys Soccer - ECPv6.15.17.1//NONSGML v1.0//EN
CALSCALE:GREGORIAN
METHOD:PUBLISH
X-ORIGINAL-URL:https://jaguarboyssoccer.com
X-WR-CALDESC:Events for Jefferson Boys Soccer
REFRESH-INTERVAL;VALUE=DURATION:PT1H
X-Robots-Tag:noindex
X-PUBLISHED-TTL:PT1H
BEGIN:VTIMEZONE
TZID:America/Chicago
BEGIN:DAYLIGHT
TZOFFSETFROM:-0600
TZOFFSETTO:-0500
TZNAME:CDT
DTSTART:20220313T080000
END:DAYLIGHT
BEGIN:STANDARD
TZOFFSETFROM:-0500
TZOFFSETTO:-0600
TZNAME:CST
DTSTART:20221106T070000
END:STANDARD
BEGIN:DAYLIGHT
TZOFFSETFROM:-0600
TZOFFSETTO:-0500
TZNAME:CDT
DTSTART:20230312T080000
END:DAYLIGHT
BEGIN:STANDARD
TZOFFSETFROM:-0500
TZOFFSETTO:-0600
TZNAME:CST
DTSTART:20231105T070000
END:STANDARD
BEGIN:DAYLIGHT
TZOFFSETFROM:-0600
TZOFFSETTO:-0500
TZNAME:CDT
DTSTART:20240310T080000
END:DAYLIGHT
BEGIN:STANDARD
TZOFFSETFROM:-0500
TZOFFSETTO:-0600
TZNAME:CST
DTSTART:20241103T070000
END:STANDARD
END:VTIMEZONE
BEGIN:VEVENT
DTSTART;TZID=America/Chicago:20230913T144500
DTEND;TZID=America/Chicago:20230913T163000
DTSTAMP:20260420T011951
CREATED:20230820T195107Z
LAST-MODIFIED:20230820T195107Z
UID:1542-1694616300-1694622600@jaguarboyssoccer.com
SUMMARY:Training
DESCRIPTION:
URL:https://jaguarboyssoccer.com/event/training-72/
LOCATION:Jefferson High School\, 4001 W 102nd St\, Bloomington\, MN\, 55437\, United States
CATEGORIES:B Team,JV,Varsity
END:VEVENT
BEGIN:VEVENT
DTSTART;TZID=America/Chicago:20230912T144500
DTEND;TZID=America/Chicago:20230912T163000
DTSTAMP:20260420T011951
CREATED:20230820T195107Z
LAST-MODIFIED:20230820T195107Z
UID:1541-1694529900-1694536200@jaguarboyssoccer.com
SUMMARY:Training
DESCRIPTION:
URL:https://jaguarboyssoccer.com/event/training-71/
LOCATION:Jefferson High School\, 4001 W 102nd St\, Bloomington\, MN\, 55437\, United States
CATEGORIES:B Team
END:VEVENT
BEGIN:VEVENT
DTSTART;TZID=America/Chicago:20230911T173000
DTEND;TZID=America/Chicago:20230911T190000
DTSTAMP:20260420T011951
CREATED:20230731T022237Z
LAST-MODIFIED:20230731T022237Z
UID:1427-1694453400-1694458800@jaguarboyssoccer.com
SUMMARY:B vs St Louis Park
DESCRIPTION:
URL:https://jaguarboyssoccer.com/event/b-vs-st-louis-park/
LOCATION:Jefferson High School\, 4001 W 102nd St\, Bloomington\, MN\, 55437\, United States
CATEGORIES:B Team
END:VEVENT
BEGIN:VEVENT
DTSTART;TZID=America/Chicago:20230909T130000
DTEND;TZID=America/Chicago:20230909T143000
DTSTAMP:20260420T011951
CREATED:20230731T022156Z
LAST-MODIFIED:20230731T022156Z
UID:1426-1694264400-1694269800@jaguarboyssoccer.com
SUMMARY:B @ Burnsville
DESCRIPTION:
URL:https://jaguarboyssoccer.com/event/b-burnsville/
LOCATION:Burnsville High School\, 600 Highway 13 E\, Burnsville\, MN\, 55337\, United States
CATEGORIES:B Team
END:VEVENT
BEGIN:VEVENT
DTSTART;TZID=America/Chicago:20230908T160000
DTEND;TZID=America/Chicago:20230908T173000
DTSTAMP:20260420T011951
CREATED:20230731T022156Z
LAST-MODIFIED:20230731T022156Z
UID:1425-1694188800-1694194200@jaguarboyssoccer.com
SUMMARY:B vs BSM
DESCRIPTION:
URL:https://jaguarboyssoccer.com/event/b-vs-bsm/
LOCATION:Jefferson High School\, 4001 W 102nd St\, Bloomington\, MN\, 55437\, United States
CATEGORIES:B Team
END:VEVENT
BEGIN:VEVENT
DTSTART;TZID=America/Chicago:20230907T144500
DTEND;TZID=America/Chicago:20230907T163000
DTSTAMP:20260420T011951
CREATED:20230820T195051Z
LAST-MODIFIED:20230820T195051Z
UID:1538-1694097900-1694104200@jaguarboyssoccer.com
SUMMARY:Training
DESCRIPTION:
URL:https://jaguarboyssoccer.com/event/training-68/
LOCATION:Jefferson High School\, 4001 W 102nd St\, Bloomington\, MN\, 55437\, United States
CATEGORIES:B Team
END:VEVENT
BEGIN:VEVENT
DTSTART;TZID=America/Chicago:20230906T144500
DTEND;TZID=America/Chicago:20230906T163000
DTSTAMP:20260420T011951
CREATED:20230820T195051Z
LAST-MODIFIED:20230820T195051Z
UID:1537-1694011500-1694017800@jaguarboyssoccer.com
SUMMARY:Training
DESCRIPTION:
URL:https://jaguarboyssoccer.com/event/training-67/
LOCATION:Jefferson High School\, 4001 W 102nd St\, Bloomington\, MN\, 55437\, United States
CATEGORIES:B Team,JV,Varsity
END:VEVENT
BEGIN:VEVENT
DTSTART;TZID=America/Chicago:20230905T180000
DTEND;TZID=America/Chicago:20230905T193000
DTSTAMP:20260420T011951
CREATED:20230731T022156Z
LAST-MODIFIED:20230731T022156Z
UID:1424-1693936800-1693942200@jaguarboyssoccer.com
SUMMARY:B vs Holy Angels
DESCRIPTION:
URL:https://jaguarboyssoccer.com/event/b-vs-holy-angels/
LOCATION:Jefferson High School\, 4001 W 102nd St\, Bloomington\, MN\, 55437\, United States
CATEGORIES:B Team
END:VEVENT
BEGIN:VEVENT
DTSTART;TZID=America/Chicago:20230901T144500
DTEND;TZID=America/Chicago:20230901T163000
DTSTAMP:20260420T011951
CREATED:20230820T195051Z
LAST-MODIFIED:20230830T224739Z
UID:1536-1693579500-1693585800@jaguarboyssoccer.com
SUMMARY:Training
DESCRIPTION:
URL:https://jaguarboyssoccer.com/event/training-66/
LOCATION:Jefferson High School\, 4001 W 102nd St\, Bloomington\, MN\, 55437\, United States
CATEGORIES:B Team,JV,Varsity
END:VEVENT
BEGIN:VEVENT
DTSTART;TZID=America/Chicago:20230831T150000
DTEND;TZID=America/Chicago:20230831T163000
DTSTAMP:20260420T011951
CREATED:20230731T022156Z
LAST-MODIFIED:20230731T022156Z
UID:1423-1693494000-1693499400@jaguarboyssoccer.com
SUMMARY:B vs Rosemount
DESCRIPTION:
URL:https://jaguarboyssoccer.com/event/b-vs-rosemount/
LOCATION:Jefferson High School\, 4001 W 102nd St\, Bloomington\, MN\, 55437\, United States
CATEGORIES:B Team
END:VEVENT
BEGIN:VEVENT
DTSTART;TZID=America/Chicago:20230830T144500
DTEND;TZID=America/Chicago:20230830T163000
DTSTAMP:20260420T011951
CREATED:20230820T195051Z
LAST-MODIFIED:20230820T195051Z
UID:1535-1693406700-1693413000@jaguarboyssoccer.com
SUMMARY:Training
DESCRIPTION:
URL:https://jaguarboyssoccer.com/event/training-65/
LOCATION:Jefferson High School\, 4001 W 102nd St\, Bloomington\, MN\, 55437\, United States
CATEGORIES:B Team,JV,Varsity
END:VEVENT
BEGIN:VEVENT
DTSTART;TZID=America/Chicago:20230829T150000
DTEND;TZID=America/Chicago:20230829T163000
DTSTAMP:20260420T011951
CREATED:20230731T022156Z
LAST-MODIFIED:20230731T022156Z
UID:1422-1693321200-1693326600@jaguarboyssoccer.com
SUMMARY:B vs Eagan
DESCRIPTION:
URL:https://jaguarboyssoccer.com/event/b-vs-eagan/
LOCATION:Jefferson High School\, 4001 W 102nd St\, Bloomington\, MN\, 55437\, United States
CATEGORIES:B Team
END:VEVENT
BEGIN:VEVENT
DTSTART;TZID=America/Chicago:20230828T144500
DTEND;TZID=America/Chicago:20230828T163000
DTSTAMP:20260420T011951
CREATED:20230820T194447Z
LAST-MODIFIED:20230820T195049Z
UID:1505-1693233900-1693240200@jaguarboyssoccer.com
SUMMARY:Training
DESCRIPTION:
URL:https://jaguarboyssoccer.com/event/training-43/
LOCATION:Jefferson High School\, 4001 W 102nd St\, Bloomington\, MN\, 55437\, United States
CATEGORIES:B Team,JV,Varsity
END:VEVENT
BEGIN:VEVENT
DTSTART;TZID=America/Chicago:20230826T090000
DTEND;TZID=America/Chicago:20230826T103000
DTSTAMP:20260420T011951
CREATED:20230731T022142Z
LAST-MODIFIED:20230820T191722Z
UID:1421-1693040400-1693045800@jaguarboyssoccer.com
SUMMARY:B @ Hastings
DESCRIPTION:Bus leaves 7:00am \nBus returns 11:00am
URL:https://jaguarboyssoccer.com/event/b-hastings/
LOCATION:Hastings High School\, 200 General Sieben Drive\, Hastings\, MN\, 55033\, United States
CATEGORIES:B Team
END:VEVENT
BEGIN:VEVENT
DTSTART;TZID=America/Chicago:20230825T070000
DTEND;TZID=America/Chicago:20230825T084500
DTSTAMP:20260420T011951
CREATED:20230820T194446Z
LAST-MODIFIED:20230820T195049Z
UID:1504-1692946800-1692953100@jaguarboyssoccer.com
SUMMARY:Training
DESCRIPTION:
URL:https://jaguarboyssoccer.com/event/training-42/
LOCATION:Jefferson High School\, 4001 W 102nd St\, Bloomington\, MN\, 55437\, United States
CATEGORIES:B Team,JV,Varsity
END:VEVENT
BEGIN:VEVENT
DTSTART;TZID=America/Chicago:20230824T150000
DTEND;TZID=America/Chicago:20230824T163000
DTSTAMP:20260420T011951
CREATED:20230731T022142Z
LAST-MODIFIED:20230731T022142Z
UID:1420-1692889200-1692894600@jaguarboyssoccer.com
SUMMARY:B vs Park
DESCRIPTION:
URL:https://jaguarboyssoccer.com/event/b-vs-park/
LOCATION:Jefferson High School\, 4001 W 102nd St\, Bloomington\, MN\, 55437\, United States
CATEGORIES:B Team
END:VEVENT
BEGIN:VEVENT
DTSTART;TZID=America/Chicago:20230823T080000
DTEND;TZID=America/Chicago:20230823T093000
DTSTAMP:20260420T011951
CREATED:20230820T194446Z
LAST-MODIFIED:20230822T180430Z
UID:1503-1692777600-1692783000@jaguarboyssoccer.com
SUMMARY:Training (JV\, B)
DESCRIPTION:
URL:https://jaguarboyssoccer.com/event/training-41/
LOCATION:Jefferson High School\, 4001 W 102nd St\, Bloomington\, MN\, 55437\, United States
CATEGORIES:B Team,JV
END:VEVENT
BEGIN:VEVENT
DTSTART;TZID=America/Chicago:20230823T074500
DTEND;TZID=America/Chicago:20230823T074500
DTSTAMP:20260420T011951
CREATED:20230822T180244Z
LAST-MODIFIED:20230822T180254Z
UID:1628-1692776700-1692776700@jaguarboyssoccer.com
SUMMARY:Team Photos (JV\, B)
DESCRIPTION:
URL:https://jaguarboyssoccer.com/event/team-photos-jv-b/
LOCATION:Jefferson High School\, 4001 W 102nd St\, Bloomington\, MN\, 55437\, United States
CATEGORIES:B Team,JV
END:VEVENT
BEGIN:VEVENT
DTSTART;TZID=America/Chicago:20230822T180000
DTEND;TZID=America/Chicago:20230822T203000
DTSTAMP:20260420T011951
CREATED:20230308T010528Z
LAST-MODIFIED:20230820T210742Z
UID:1377-1692727200-1692736200@jaguarboyssoccer.com
SUMMARY:PAC Meeting (JHS Cafeteria)
DESCRIPTION:Please don’t forget about the mandatory Parent-Athlete-Coach meeting on August 22 at 6pm in the JHS Cafeteria. \nPlayers who registered for the booster club will receive a sweatshirt.  If any adults want to order a sweatshirt\, we will have an order form at the PAC meeting.  They are around $30 based on size\, so bring your money if you would like to order some.  If you have not registered for the booster club\, you can still do that as well.
URL:https://jaguarboyssoccer.com/event/pac-meeting/
LOCATION:Jefferson High School\, 4001 W 102nd St\, Bloomington\, MN\, 55437\, United States
CATEGORIES:B Team,Booster Club,JV,Varsity
END:VEVENT
BEGIN:VEVENT
DTSTART;TZID=America/Chicago:20230822T093000
DTEND;TZID=America/Chicago:20230822T093000
DTSTAMP:20260420T011951
CREATED:20230821T201005Z
LAST-MODIFIED:20230821T201011Z
UID:1621-1692696600-1692696600@jaguarboyssoccer.com
SUMMARY:Uniform distribution after scrimmage
DESCRIPTION:Uniforms will be handed out after the Prior Lake scrimmages for all teams.
URL:https://jaguarboyssoccer.com/event/uniform-distribution-after-scrimmage/
LOCATION:Jefferson High School\, 4001 W 102nd St\, Bloomington\, MN\, 55437\, United States
CATEGORIES:B Team,JV,Varsity
END:VEVENT
BEGIN:VEVENT
DTSTART;TZID=America/Chicago:20230822T080000
DTEND;TZID=America/Chicago:20230822T093000
DTSTAMP:20260420T011951
CREATED:20230820T180023Z
LAST-MODIFIED:20230821T211617Z
UID:1486-1692691200-1692696600@jaguarboyssoccer.com
SUMMARY:B vs Prior Lake Scrimmage
DESCRIPTION:All teams will wear light blue shirt\, shorts and socks if you have it.  Any blue will work and he doesn’t want you to buy anything new.  If you do not have blue shorts and socks\, at least wear a blue shirt.  Borrow from a friend if you have to.\n\nB team on the grass fields at 8:00.  Arrive at 7:30 AM
URL:https://jaguarboyssoccer.com/event/b-team-vs-prior-lake-2/
LOCATION:Jefferson High School\, 4001 W 102nd St\, Bloomington\, MN\, 55437\, United States
CATEGORIES:B Team
END:VEVENT
BEGIN:VEVENT
DTSTART;TZID=America/Chicago:20230821T080000
DTEND;TZID=America/Chicago:20230821T094500
DTSTAMP:20260420T011951
CREATED:20230820T194445Z
LAST-MODIFIED:20230820T201927Z
UID:1501-1692604800-1692611100@jaguarboyssoccer.com
SUMMARY:Training (JV\, B)
DESCRIPTION:
URL:https://jaguarboyssoccer.com/event/training-39/
LOCATION:Jefferson High School\, 4001 W 102nd St\, Bloomington\, MN\, 55437\, United States
CATEGORIES:B Team,JV
END:VEVENT
BEGIN:VEVENT
DTSTART;TZID=America/Chicago:20230818T160000
DTEND;TZID=America/Chicago:20230818T173000
DTSTAMP:20260420T011951
CREATED:20230731T022142Z
LAST-MODIFIED:20230818T134903Z
UID:1418-1692374400-1692379800@jaguarboyssoccer.com
SUMMARY:Tryouts
DESCRIPTION:
URL:https://jaguarboyssoccer.com/event/tryouts-15/
LOCATION:Jefferson High School\, 4001 W 102nd St\, Bloomington\, MN\, 55437\, United States
CATEGORIES:B Team,JV,Varsity
END:VEVENT
BEGIN:VEVENT
DTSTART;TZID=America/Chicago:20230818T110000
DTEND;TZID=America/Chicago:20230818T123000
DTSTAMP:20260420T011951
CREATED:20230731T022113Z
LAST-MODIFIED:20230731T022113Z
UID:1411-1692356400-1692361800@jaguarboyssoccer.com
SUMMARY:Tryouts
DESCRIPTION:
URL:https://jaguarboyssoccer.com/event/tryouts-10/
LOCATION:Jefferson High School\, 4001 W 102nd St\, Bloomington\, MN\, 55437\, United States
CATEGORIES:B Team,JV,Varsity
END:VEVENT
BEGIN:VEVENT
DTSTART;TZID=America/Chicago:20230817T160000
DTEND;TZID=America/Chicago:20230817T173000
DTSTAMP:20260420T011951
CREATED:20230731T022142Z
LAST-MODIFIED:20230818T134946Z
UID:1417-1692288000-1692293400@jaguarboyssoccer.com
SUMMARY:Tryouts
DESCRIPTION:
URL:https://jaguarboyssoccer.com/event/tryouts-14/
LOCATION:Jefferson High School\, 4001 W 102nd St\, Bloomington\, MN\, 55437\, United States
CATEGORIES:B Team,JV,Varsity
END:VEVENT
BEGIN:VEVENT
DTSTART;TZID=America/Chicago:20230817T110000
DTEND;TZID=America/Chicago:20230817T123000
DTSTAMP:20260420T011951
CREATED:20230731T022112Z
LAST-MODIFIED:20230731T022112Z
UID:1410-1692270000-1692275400@jaguarboyssoccer.com
SUMMARY:Tryouts
DESCRIPTION:
URL:https://jaguarboyssoccer.com/event/tryouts-9/
LOCATION:Jefferson High School\, 4001 W 102nd St\, Bloomington\, MN\, 55437\, United States
CATEGORIES:B Team,JV,Varsity
END:VEVENT
BEGIN:VEVENT
DTSTART;TZID=America/Chicago:20230816T160000
DTEND;TZID=America/Chicago:20230816T173000
DTSTAMP:20260420T011951
CREATED:20230731T022126Z
LAST-MODIFIED:20230818T134951Z
UID:1416-1692201600-1692207000@jaguarboyssoccer.com
SUMMARY:Tryouts
DESCRIPTION:
URL:https://jaguarboyssoccer.com/event/tryouts-13/
LOCATION:Jefferson High School\, 4001 W 102nd St\, Bloomington\, MN\, 55437\, United States
CATEGORIES:B Team,JV,Varsity
END:VEVENT
BEGIN:VEVENT
DTSTART;TZID=America/Chicago:20230816T110000
DTEND;TZID=America/Chicago:20230816T123000
DTSTAMP:20260420T011951
CREATED:20230731T022112Z
LAST-MODIFIED:20230731T022112Z
UID:1409-1692183600-1692189000@jaguarboyssoccer.com
SUMMARY:Tryouts
DESCRIPTION:
URL:https://jaguarboyssoccer.com/event/tryouts-8/
LOCATION:Jefferson High School\, 4001 W 102nd St\, Bloomington\, MN\, 55437\, United States
CATEGORIES:B Team,JV,Varsity
END:VEVENT
BEGIN:VEVENT
DTSTART;TZID=America/Chicago:20230815T160000
DTEND;TZID=America/Chicago:20230815T173000
DTSTAMP:20260420T011951
CREATED:20230731T022126Z
LAST-MODIFIED:20230731T022126Z
UID:1415-1692115200-1692120600@jaguarboyssoccer.com
SUMMARY:Tryouts
DESCRIPTION:
URL:https://jaguarboyssoccer.com/event/tryouts-12/
LOCATION:Jefferson High School\, 4001 W 102nd St\, Bloomington\, MN\, 55437\, United States
CATEGORIES:B Team,JV,Varsity
END:VEVENT
BEGIN:VEVENT
DTSTART;TZID=America/Chicago:20230815T110000
DTEND;TZID=America/Chicago:20230815T123000
DTSTAMP:20260420T011951
CREATED:20230731T022112Z
LAST-MODIFIED:20230731T022112Z
UID:1408-1692097200-1692102600@jaguarboyssoccer.com
SUMMARY:Tryouts
DESCRIPTION:
URL:https://jaguarboyssoccer.com/event/tryouts-7/
LOCATION:Jefferson High School\, 4001 W 102nd St\, Bloomington\, MN\, 55437\, United States
CATEGORIES:B Team,JV,Varsity
END:VEVENT
END:VCALENDAR