BEGIN:VCALENDAR
VERSION:2.0
PRODID:-//Jefferson Boys Soccer - ECPv6.15.17.1//NONSGML v1.0//EN
CALSCALE:GREGORIAN
METHOD:PUBLISH
X-WR-CALNAME:Jefferson Boys Soccer
X-ORIGINAL-URL:https://jaguarboyssoccer.com
X-WR-CALDESC:Events for Jefferson Boys Soccer
REFRESH-INTERVAL;VALUE=DURATION:PT1H
X-Robots-Tag:noindex
X-PUBLISHED-TTL:PT1H
BEGIN:VTIMEZONE
TZID:America/Chicago
BEGIN:DAYLIGHT
TZOFFSETFROM:-0600
TZOFFSETTO:-0500
TZNAME:CDT
DTSTART:20220313T080000
END:DAYLIGHT
BEGIN:STANDARD
TZOFFSETFROM:-0500
TZOFFSETTO:-0600
TZNAME:CST
DTSTART:20221106T070000
END:STANDARD
BEGIN:DAYLIGHT
TZOFFSETFROM:-0600
TZOFFSETTO:-0500
TZNAME:CDT
DTSTART:20230312T080000
END:DAYLIGHT
BEGIN:STANDARD
TZOFFSETFROM:-0500
TZOFFSETTO:-0600
TZNAME:CST
DTSTART:20231105T070000
END:STANDARD
BEGIN:DAYLIGHT
TZOFFSETFROM:-0600
TZOFFSETTO:-0500
TZNAME:CDT
DTSTART:20240310T080000
END:DAYLIGHT
BEGIN:STANDARD
TZOFFSETFROM:-0500
TZOFFSETTO:-0600
TZNAME:CST
DTSTART:20241103T070000
END:STANDARD
END:VTIMEZONE
BEGIN:VEVENT
DTSTART;TZID=America/Chicago:20230916T090000
DTEND;TZID=America/Chicago:20230916T103000
DTSTAMP:20260420T031045
CREATED:20230731T022753Z
LAST-MODIFIED:20230731T022753Z
UID:1464-1694854800-1694860200@jaguarboyssoccer.com
SUMMARY:Varsity vs Apple Valley
DESCRIPTION:
URL:https://jaguarboyssoccer.com/event/varsity-vs-apple-valley-2/
LOCATION:Jefferson High School\, 4001 W 102nd St\, Bloomington\, MN\, 55437\, United States
CATEGORIES:Varsity
END:VEVENT
BEGIN:VEVENT
DTSTART;TZID=America/Chicago:20230916T090000
DTEND;TZID=America/Chicago:20230916T103000
DTSTAMP:20260420T031045
CREATED:20230731T022458Z
LAST-MODIFIED:20230731T022458Z
UID:1445-1694854800-1694860200@jaguarboyssoccer.com
SUMMARY:JV vs Apple Valley
DESCRIPTION:
URL:https://jaguarboyssoccer.com/event/jv-vs-apple-valley/
LOCATION:Jefferson High School\, 4001 W 102nd St\, Bloomington\, MN\, 55437\, United States
CATEGORIES:JV
END:VEVENT
BEGIN:VEVENT
DTSTART;TZID=America/Chicago:20230916T090000
DTEND;TZID=America/Chicago:20230916T103000
DTSTAMP:20260420T031045
CREATED:20230731T022237Z
LAST-MODIFIED:20230731T022237Z
UID:1429-1694854800-1694860200@jaguarboyssoccer.com
SUMMARY:B vs Apple Valley
DESCRIPTION:
URL:https://jaguarboyssoccer.com/event/b-vs-apple-valley/
LOCATION:Jefferson High School\, 4001 W 102nd St\, Bloomington\, MN\, 55437\, United States
CATEGORIES:B Team
END:VEVENT
BEGIN:VEVENT
DTSTART;TZID=America/Chicago:20230915T173000
DTEND;TZID=America/Chicago:20230915T190000
DTSTAMP:20260420T031045
CREATED:20230731T022237Z
LAST-MODIFIED:20230731T022237Z
UID:1428-1694799000-1694804400@jaguarboyssoccer.com
SUMMARY:B vs New Prague
DESCRIPTION:
URL:https://jaguarboyssoccer.com/event/b-vs-new-prague/
LOCATION:Jefferson High School\, 4001 W 102nd St\, Bloomington\, MN\, 55437\, United States
CATEGORIES:B Team
END:VEVENT
BEGIN:VEVENT
DTSTART;TZID=America/Chicago:20230915T144500
DTEND;TZID=America/Chicago:20230915T163000
DTSTAMP:20260420T031045
CREATED:20230820T195107Z
LAST-MODIFIED:20230820T195107Z
UID:1544-1694789100-1694795400@jaguarboyssoccer.com
SUMMARY:Training
DESCRIPTION:
URL:https://jaguarboyssoccer.com/event/training-74/
LOCATION:Jefferson High School\, 4001 W 102nd St\, Bloomington\, MN\, 55437\, United States
CATEGORIES:JV,Varsity
END:VEVENT
BEGIN:VEVENT
DTSTART;TZID=America/Chicago:20230914T190000
DTEND;TZID=America/Chicago:20230914T203000
DTSTAMP:20260420T031045
CREATED:20230731T022753Z
LAST-MODIFIED:20230731T022753Z
UID:1463-1694718000-1694723400@jaguarboyssoccer.com
SUMMARY:Varsity vs New Prague
DESCRIPTION:
URL:https://jaguarboyssoccer.com/event/varsity-vs-new-prague/
LOCATION:Bloomington Stadium\, 8900 Queen Ave South\, Bloomington\, MN\, 55431\, United States
CATEGORIES:Varsity
END:VEVENT
BEGIN:VEVENT
DTSTART;TZID=America/Chicago:20230914T173000
DTEND;TZID=America/Chicago:20230914T190000
DTSTAMP:20260420T031045
CREATED:20230731T022457Z
LAST-MODIFIED:20230731T022457Z
UID:1444-1694712600-1694718000@jaguarboyssoccer.com
SUMMARY:JV vs New Prague
DESCRIPTION:
URL:https://jaguarboyssoccer.com/event/jv-vs-new-prague/
LOCATION:Jefferson High School\, 4001 W 102nd St\, Bloomington\, MN\, 55437\, United States
CATEGORIES:JV
END:VEVENT
BEGIN:VEVENT
DTSTART;TZID=America/Chicago:20230914T144500
DTEND;TZID=America/Chicago:20230914T163000
DTSTAMP:20260420T031045
CREATED:20230820T195107Z
LAST-MODIFIED:20230820T195107Z
UID:1543-1694702700-1694709000@jaguarboyssoccer.com
SUMMARY:Training
DESCRIPTION:
URL:https://jaguarboyssoccer.com/event/training-73/
LOCATION:Jefferson High School\, 4001 W 102nd St\, Bloomington\, MN\, 55437\, United States
CATEGORIES:B Team
END:VEVENT
BEGIN:VEVENT
DTSTART;TZID=America/Chicago:20230913T144500
DTEND;TZID=America/Chicago:20230913T163000
DTSTAMP:20260420T031045
CREATED:20230820T195107Z
LAST-MODIFIED:20230820T195107Z
UID:1542-1694616300-1694622600@jaguarboyssoccer.com
SUMMARY:Training
DESCRIPTION:
URL:https://jaguarboyssoccer.com/event/training-72/
LOCATION:Jefferson High School\, 4001 W 102nd St\, Bloomington\, MN\, 55437\, United States
CATEGORIES:B Team,JV,Varsity
END:VEVENT
BEGIN:VEVENT
DTSTART;TZID=America/Chicago:20230912T190000
DTEND;TZID=America/Chicago:20230912T203000
DTSTAMP:20260420T031045
CREATED:20230731T022753Z
LAST-MODIFIED:20230731T022753Z
UID:1462-1694545200-1694550600@jaguarboyssoccer.com
SUMMARY:Varsity vs St Louis Park
DESCRIPTION:
URL:https://jaguarboyssoccer.com/event/varsity-vs-st-louis-park/
LOCATION:Bloomington Stadium\, 8900 Queen Ave South\, Bloomington\, MN\, 55431\, United States
CATEGORIES:Varsity
END:VEVENT
BEGIN:VEVENT
DTSTART;TZID=America/Chicago:20230912T173000
DTEND;TZID=America/Chicago:20230912T190000
DTSTAMP:20260420T031045
CREATED:20230731T022457Z
LAST-MODIFIED:20230731T022457Z
UID:1443-1694539800-1694545200@jaguarboyssoccer.com
SUMMARY:JV vs St Louis Park
DESCRIPTION:
URL:https://jaguarboyssoccer.com/event/jv-vs-st-louis-park/
LOCATION:Jefferson High School\, 4001 W 102nd St\, Bloomington\, MN\, 55437\, United States
CATEGORIES:JV
END:VEVENT
BEGIN:VEVENT
DTSTART;TZID=America/Chicago:20230912T144500
DTEND;TZID=America/Chicago:20230912T163000
DTSTAMP:20260420T031045
CREATED:20230820T195107Z
LAST-MODIFIED:20230820T195107Z
UID:1541-1694529900-1694536200@jaguarboyssoccer.com
SUMMARY:Training
DESCRIPTION:
URL:https://jaguarboyssoccer.com/event/training-71/
LOCATION:Jefferson High School\, 4001 W 102nd St\, Bloomington\, MN\, 55437\, United States
CATEGORIES:B Team
END:VEVENT
BEGIN:VEVENT
DTSTART;TZID=America/Chicago:20230911T173000
DTEND;TZID=America/Chicago:20230911T190000
DTSTAMP:20260420T031045
CREATED:20230731T022237Z
LAST-MODIFIED:20230731T022237Z
UID:1427-1694453400-1694458800@jaguarboyssoccer.com
SUMMARY:B vs St Louis Park
DESCRIPTION:
URL:https://jaguarboyssoccer.com/event/b-vs-st-louis-park/
LOCATION:Jefferson High School\, 4001 W 102nd St\, Bloomington\, MN\, 55437\, United States
CATEGORIES:B Team
END:VEVENT
BEGIN:VEVENT
DTSTART;TZID=America/Chicago:20230911T144500
DTEND;TZID=America/Chicago:20230911T163000
DTSTAMP:20260420T031045
CREATED:20230820T195106Z
LAST-MODIFIED:20230820T195106Z
UID:1540-1694443500-1694449800@jaguarboyssoccer.com
SUMMARY:Training
DESCRIPTION:
URL:https://jaguarboyssoccer.com/event/training-70/
LOCATION:Jefferson High School\, 4001 W 102nd St\, Bloomington\, MN\, 55437\, United States
CATEGORIES:JV,Varsity
END:VEVENT
BEGIN:VEVENT
DTSTART;TZID=America/Chicago:20230909T150000
DTEND;TZID=America/Chicago:20230909T163000
DTSTAMP:20260420T031045
CREATED:20230731T022612Z
LAST-MODIFIED:20230731T022612Z
UID:1461-1694271600-1694277000@jaguarboyssoccer.com
SUMMARY:Varsity @ Burnsville
DESCRIPTION:
URL:https://jaguarboyssoccer.com/event/varsity-burnsville/
LOCATION:Burnsville High School\, 600 Highway 13 E\, Burnsville\, MN\, 55337\, United States
CATEGORIES:Varsity
END:VEVENT
BEGIN:VEVENT
DTSTART;TZID=America/Chicago:20230909T130000
DTEND;TZID=America/Chicago:20230909T143000
DTSTAMP:20260420T031045
CREATED:20230731T022457Z
LAST-MODIFIED:20230909T141118Z
UID:1442-1694264400-1694269800@jaguarboyssoccer.com
SUMMARY:JV @ Burnsville
DESCRIPTION:
URL:https://jaguarboyssoccer.com/event/jv-burnsville/
LOCATION:Burnsville High School\, 600 Highway 13 E\, Burnsville\, MN\, 55337\, United States
CATEGORIES:JV
END:VEVENT
BEGIN:VEVENT
DTSTART;TZID=America/Chicago:20230909T130000
DTEND;TZID=America/Chicago:20230909T143000
DTSTAMP:20260420T031045
CREATED:20230731T022156Z
LAST-MODIFIED:20230731T022156Z
UID:1426-1694264400-1694269800@jaguarboyssoccer.com
SUMMARY:B @ Burnsville
DESCRIPTION:
URL:https://jaguarboyssoccer.com/event/b-burnsville/
LOCATION:Burnsville High School\, 600 Highway 13 E\, Burnsville\, MN\, 55337\, United States
CATEGORIES:B Team
END:VEVENT
BEGIN:VEVENT
DTSTART;TZID=America/Chicago:20230908T160000
DTEND;TZID=America/Chicago:20230908T173000
DTSTAMP:20260420T031045
CREATED:20230731T022156Z
LAST-MODIFIED:20230731T022156Z
UID:1425-1694188800-1694194200@jaguarboyssoccer.com
SUMMARY:B vs BSM
DESCRIPTION:
URL:https://jaguarboyssoccer.com/event/b-vs-bsm/
LOCATION:Jefferson High School\, 4001 W 102nd St\, Bloomington\, MN\, 55437\, United States
CATEGORIES:B Team
END:VEVENT
BEGIN:VEVENT
DTSTART;TZID=America/Chicago:20230908T144500
DTEND;TZID=America/Chicago:20230908T163000
DTSTAMP:20260420T031045
CREATED:20230820T195051Z
LAST-MODIFIED:20230820T195051Z
UID:1539-1694184300-1694190600@jaguarboyssoccer.com
SUMMARY:Training
DESCRIPTION:
URL:https://jaguarboyssoccer.com/event/training-69/
LOCATION:Jefferson High School\, 4001 W 102nd St\, Bloomington\, MN\, 55437\, United States
CATEGORIES:JV,Varsity
END:VEVENT
BEGIN:VEVENT
DTSTART;TZID=America/Chicago:20230907T164500
DTEND;TZID=America/Chicago:20230907T181500
DTSTAMP:20260420T031045
CREATED:20230731T022611Z
LAST-MODIFIED:20230731T022611Z
UID:1460-1694105100-1694110500@jaguarboyssoccer.com
SUMMARY:Varsity vs BSM
DESCRIPTION:
URL:https://jaguarboyssoccer.com/event/varsity-vs-bsm/
LOCATION:Jefferson High School\, 4001 W 102nd St\, Bloomington\, MN\, 55437\, United States
CATEGORIES:Varsity
END:VEVENT
BEGIN:VEVENT
DTSTART;TZID=America/Chicago:20230907T160000
DTEND;TZID=America/Chicago:20230907T173000
DTSTAMP:20260420T031045
CREATED:20230731T022443Z
LAST-MODIFIED:20230731T022443Z
UID:1441-1694102400-1694107800@jaguarboyssoccer.com
SUMMARY:JV vs BSM
DESCRIPTION:
URL:https://jaguarboyssoccer.com/event/jv-vs-bsm/
LOCATION:Jefferson High School\, 4001 W 102nd St\, Bloomington\, MN\, 55437\, United States
CATEGORIES:JV
END:VEVENT
BEGIN:VEVENT
DTSTART;TZID=America/Chicago:20230907T144500
DTEND;TZID=America/Chicago:20230907T163000
DTSTAMP:20260420T031045
CREATED:20230820T195051Z
LAST-MODIFIED:20230820T195051Z
UID:1538-1694097900-1694104200@jaguarboyssoccer.com
SUMMARY:Training
DESCRIPTION:
URL:https://jaguarboyssoccer.com/event/training-68/
LOCATION:Jefferson High School\, 4001 W 102nd St\, Bloomington\, MN\, 55437\, United States
CATEGORIES:B Team
END:VEVENT
BEGIN:VEVENT
DTSTART;TZID=America/Chicago:20230906T144500
DTEND;TZID=America/Chicago:20230906T163000
DTSTAMP:20260420T031045
CREATED:20230820T195051Z
LAST-MODIFIED:20230820T195051Z
UID:1537-1694011500-1694017800@jaguarboyssoccer.com
SUMMARY:Training
DESCRIPTION:
URL:https://jaguarboyssoccer.com/event/training-67/
LOCATION:Jefferson High School\, 4001 W 102nd St\, Bloomington\, MN\, 55437\, United States
CATEGORIES:B Team,JV,Varsity
END:VEVENT
BEGIN:VEVENT
DTSTART;TZID=America/Chicago:20230905T180000
DTEND;TZID=America/Chicago:20230905T193000
DTSTAMP:20260420T031045
CREATED:20230731T022611Z
LAST-MODIFIED:20230731T022611Z
UID:1459-1693936800-1693942200@jaguarboyssoccer.com
SUMMARY:Varsity vs Holy Angels
DESCRIPTION:
URL:https://jaguarboyssoccer.com/event/varsity-vs-holy-angels/
LOCATION:Jefferson High School\, 4001 W 102nd St\, Bloomington\, MN\, 55437\, United States
CATEGORIES:Varsity
END:VEVENT
BEGIN:VEVENT
DTSTART;TZID=America/Chicago:20230905T180000
DTEND;TZID=America/Chicago:20230905T193000
DTSTAMP:20260420T031045
CREATED:20230731T022443Z
LAST-MODIFIED:20230731T022443Z
UID:1440-1693936800-1693942200@jaguarboyssoccer.com
SUMMARY:JV vs Holy Angels
DESCRIPTION:
URL:https://jaguarboyssoccer.com/event/jv-vs-holy-angels/
LOCATION:Jefferson High School\, 4001 W 102nd St\, Bloomington\, MN\, 55437\, United States
CATEGORIES:JV
END:VEVENT
BEGIN:VEVENT
DTSTART;TZID=America/Chicago:20230905T180000
DTEND;TZID=America/Chicago:20230905T193000
DTSTAMP:20260420T031045
CREATED:20230731T022156Z
LAST-MODIFIED:20230731T022156Z
UID:1424-1693936800-1693942200@jaguarboyssoccer.com
SUMMARY:B vs Holy Angels
DESCRIPTION:
URL:https://jaguarboyssoccer.com/event/b-vs-holy-angels/
LOCATION:Jefferson High School\, 4001 W 102nd St\, Bloomington\, MN\, 55437\, United States
CATEGORIES:B Team
END:VEVENT
BEGIN:VEVENT
DTSTART;TZID=America/Chicago:20230901T144500
DTEND;TZID=America/Chicago:20230901T163000
DTSTAMP:20260420T031045
CREATED:20230820T195051Z
LAST-MODIFIED:20230830T224739Z
UID:1536-1693579500-1693585800@jaguarboyssoccer.com
SUMMARY:Training
DESCRIPTION:
URL:https://jaguarboyssoccer.com/event/training-66/
LOCATION:Jefferson High School\, 4001 W 102nd St\, Bloomington\, MN\, 55437\, United States
CATEGORIES:B Team,JV,Varsity
END:VEVENT
BEGIN:VEVENT
DTSTART;TZID=America/Chicago:20230831T150000
DTEND;TZID=America/Chicago:20230831T163000
DTSTAMP:20260420T031045
CREATED:20230731T022611Z
LAST-MODIFIED:20230731T022611Z
UID:1458-1693494000-1693499400@jaguarboyssoccer.com
SUMMARY:Varsity vs Rosemount
DESCRIPTION:
URL:https://jaguarboyssoccer.com/event/varsity-vs-rosemount/
LOCATION:Jefferson High School\, 4001 W 102nd St\, Bloomington\, MN\, 55437\, United States
CATEGORIES:Varsity
END:VEVENT
BEGIN:VEVENT
DTSTART;TZID=America/Chicago:20230831T150000
DTEND;TZID=America/Chicago:20230831T163000
DTSTAMP:20260420T031045
CREATED:20230731T022443Z
LAST-MODIFIED:20230731T022443Z
UID:1439-1693494000-1693499400@jaguarboyssoccer.com
SUMMARY:JV vs Rosemount
DESCRIPTION:
URL:https://jaguarboyssoccer.com/event/jv-vs-rosemount/
LOCATION:Jefferson High School\, 4001 W 102nd St\, Bloomington\, MN\, 55437\, United States
CATEGORIES:JV
END:VEVENT
BEGIN:VEVENT
DTSTART;TZID=America/Chicago:20230831T150000
DTEND;TZID=America/Chicago:20230831T163000
DTSTAMP:20260420T031045
CREATED:20230731T022156Z
LAST-MODIFIED:20230731T022156Z
UID:1423-1693494000-1693499400@jaguarboyssoccer.com
SUMMARY:B vs Rosemount
DESCRIPTION:
URL:https://jaguarboyssoccer.com/event/b-vs-rosemount/
LOCATION:Jefferson High School\, 4001 W 102nd St\, Bloomington\, MN\, 55437\, United States
CATEGORIES:B Team
END:VEVENT
END:VCALENDAR