BEGIN:VCALENDAR
VERSION:2.0
PRODID:-//Jefferson Boys Soccer - ECPv6.15.17.1//NONSGML v1.0//EN
CALSCALE:GREGORIAN
METHOD:PUBLISH
X-ORIGINAL-URL:https://jaguarboyssoccer.com
X-WR-CALDESC:Events for Jefferson Boys Soccer
REFRESH-INTERVAL;VALUE=DURATION:PT1H
X-Robots-Tag:noindex
X-PUBLISHED-TTL:PT1H
BEGIN:VTIMEZONE
TZID:America/Chicago
BEGIN:DAYLIGHT
TZOFFSETFROM:-0600
TZOFFSETTO:-0500
TZNAME:CDT
DTSTART:20230312T080000
END:DAYLIGHT
BEGIN:STANDARD
TZOFFSETFROM:-0500
TZOFFSETTO:-0600
TZNAME:CST
DTSTART:20231105T070000
END:STANDARD
BEGIN:DAYLIGHT
TZOFFSETFROM:-0600
TZOFFSETTO:-0500
TZNAME:CDT
DTSTART:20240310T080000
END:DAYLIGHT
BEGIN:STANDARD
TZOFFSETFROM:-0500
TZOFFSETTO:-0600
TZNAME:CST
DTSTART:20241103T070000
END:STANDARD
BEGIN:DAYLIGHT
TZOFFSETFROM:-0600
TZOFFSETTO:-0500
TZNAME:CDT
DTSTART:20250309T080000
END:DAYLIGHT
BEGIN:STANDARD
TZOFFSETFROM:-0500
TZOFFSETTO:-0600
TZNAME:CST
DTSTART:20251102T070000
END:STANDARD
BEGIN:DAYLIGHT
TZOFFSETFROM:-0600
TZOFFSETTO:-0500
TZNAME:CDT
DTSTART:20260308T080000
END:DAYLIGHT
BEGIN:STANDARD
TZOFFSETFROM:-0500
TZOFFSETTO:-0600
TZNAME:CST
DTSTART:20261101T070000
END:STANDARD
END:VTIMEZONE
BEGIN:VEVENT
DTSTART;TZID=America/Chicago:20250811T170000
DTEND;TZID=America/Chicago:20250811T200000
DTSTAMP:20260419T135948
CREATED:20250123T202326Z
LAST-MODIFIED:20250725T152303Z
UID:1932-1754931600-1754942400@jaguarboyssoccer.com
SUMMARY:2025 Tryouts - 8th/9th/10th Grade
DESCRIPTION:First day of Tryouts for the 2025 season. On Day 1\, the groups will be divided by AGE. \nSession 2 will be 8th/9th/10th graders. Players will do the following activities: \n\n3200m (Two Mile) Run\n1v1’s\n3v3’s\n11v11’s\n\n 
URL:https://jaguarboyssoccer.com/event/2025-tryouts-8th-9th-10th-grade/
LOCATION:Jefferson High School\, 4001 W 102nd St\, Bloomington\, MN\, 55437\, United States
CATEGORIES:B Team,JV,Varsity
END:VEVENT
BEGIN:VEVENT
DTSTART;TZID=America/Chicago:20250811T100000
DTEND;TZID=America/Chicago:20250811T130000
DTSTAMP:20260419T135948
CREATED:20250123T202205Z
LAST-MODIFIED:20250725T152241Z
UID:1930-1754906400-1754917200@jaguarboyssoccer.com
SUMMARY:2025 Tryouts - 11th/12th Grade
DESCRIPTION:First day of Tryouts for the 2025 season. On Day 1\, the groups will be divided by AGE. \nSession 1 will be 11th/12th graders. Players will do the following activities: \n\n3200m (Two Mile) Run\n1v1’s\n3v3’s\n11v11’s\n\n 
URL:https://jaguarboyssoccer.com/event/2025-tryouts-11th-12th-grade/
LOCATION:Jefferson High School\, 4001 W 102nd St\, Bloomington\, MN\, 55437\, United States
END:VEVENT
BEGIN:VEVENT
DTSTART;TZID=America/Chicago:20250807T180000
DTEND;TZID=America/Chicago:20250807T190000
DTSTAMP:20260419T135948
CREATED:20250801T224227Z
LAST-MODIFIED:20250801T224227Z
UID:1990-1754589600-1754593200@jaguarboyssoccer.com
SUMMARY:Fall Informational Meeting
DESCRIPTION:The Fall Informational Meeting for soccer is going to be August 7th at 6:00 PM. We are meeting at the cafeteria in Jefferson High School. \nThis is an important meeting for players and parents to learn more about the program prior to tryouts\, which start the following Monday. We cover a lot of information and can answer any questions that you have about the program. See you there!
URL:https://jaguarboyssoccer.com/event/fall-informational-meeting/
LOCATION:Jefferson High School\, 4001 W 102nd St\, Bloomington\, MN\, 55437\, United States
END:VEVENT
BEGIN:VEVENT
DTSTART;TZID=America/Chicago:20250806T180000
DTEND;TZID=America/Chicago:20250806T190000
DTSTAMP:20260419T135948
CREATED:20250801T224015Z
LAST-MODIFIED:20250801T224028Z
UID:1987-1754503200-1754506800@jaguarboyssoccer.com
SUMMARY:Booster Club Meeting August 6th
DESCRIPTION:The Booster Club is meeting at Mugshots behind Cub at 6:00 PM. We are looking for additional parents to join the Boosters – please join us if you can and help make the high school soccer experience a memorable one for the boys! \n 
URL:https://jaguarboyssoccer.com/event/booster-club-meeting/
LOCATION:MN
END:VEVENT
BEGIN:VEVENT
DTSTART;TZID=America/Chicago:20241003T173000
DTEND;TZID=America/Chicago:20241003T193000
DTSTAMP:20260419T135948
CREATED:20240318T195103Z
LAST-MODIFIED:20240318T195103Z
UID:1815-1727976600-1727983800@jaguarboyssoccer.com
SUMMARY:Varsity Game - Academy of Holy Angels
DESCRIPTION:
URL:https://jaguarboyssoccer.com/event/varsity-game-academy-of-holy-angels/
LOCATION:MN
CATEGORIES:Varsity
END:VEVENT
BEGIN:VEVENT
DTSTART;TZID=America/Chicago:20241003T160000
DTEND;TZID=America/Chicago:20241003T173000
DTSTAMP:20260419T135948
CREATED:20240318T195035Z
LAST-MODIFIED:20240318T195035Z
UID:1813-1727971200-1727976600@jaguarboyssoccer.com
SUMMARY:B Squad Game - Academy of Holy Angels
DESCRIPTION:
URL:https://jaguarboyssoccer.com/event/b-squad-game-academy-of-holy-angels/
LOCATION:MN
CATEGORIES:B Team
END:VEVENT
BEGIN:VEVENT
DTSTART;TZID=America/Chicago:20241003T160000
DTEND;TZID=America/Chicago:20241003T173000
DTSTAMP:20260419T135948
CREATED:20240318T194950Z
LAST-MODIFIED:20240318T194950Z
UID:1811-1727971200-1727976600@jaguarboyssoccer.com
SUMMARY:JV Game - Academy of Holy Angels
DESCRIPTION:
URL:https://jaguarboyssoccer.com/event/jv-game-academy-of-holy-angels/
LOCATION:Jefferson High School\, 4001 W 102nd St\, Bloomington\, MN\, 55437\, United States
CATEGORIES:JV
END:VEVENT
BEGIN:VEVENT
DTSTART;TZID=America/Chicago:20241001T170000
DTEND;TZID=America/Chicago:20241001T190000
DTSTAMP:20260419T135948
CREATED:20240318T194905Z
LAST-MODIFIED:20240318T194905Z
UID:1809-1727802000-1727809200@jaguarboyssoccer.com
SUMMARY:Varsity Game - St. Louis Park
DESCRIPTION:
URL:https://jaguarboyssoccer.com/event/varsity-game-st-louis-park/
LOCATION:St. Louis Park High School\, 6425 West 33rd Street\, St. Louis Park\, MN\, 55426\, United States
CATEGORIES:Varsity
END:VEVENT
BEGIN:VEVENT
DTSTART;TZID=America/Chicago:20241001T160000
DTEND;TZID=America/Chicago:20241001T173000
DTSTAMP:20260419T135948
CREATED:20240318T194807Z
LAST-MODIFIED:20240318T194807Z
UID:1807-1727798400-1727803800@jaguarboyssoccer.com
SUMMARY:JV Game - St. Louis Park
DESCRIPTION:
URL:https://jaguarboyssoccer.com/event/jv-game-st-louis-park/
LOCATION:St. Louis Park High School\, 6425 West 33rd Street\, St. Louis Park\, MN\, 55426\, United States
CATEGORIES:JV
END:VEVENT
BEGIN:VEVENT
DTSTART;TZID=America/Chicago:20240930T160000
DTEND;TZID=America/Chicago:20240930T173000
DTSTAMP:20260419T135948
CREATED:20240318T194726Z
LAST-MODIFIED:20240318T194726Z
UID:1805-1727712000-1727717400@jaguarboyssoccer.com
SUMMARY:B Squad Game - St. Louis Park
DESCRIPTION:
URL:https://jaguarboyssoccer.com/event/b-squad-game-st-louis-park/
LOCATION:St. Louis Park High School\, 6425 West 33rd Street\, St. Louis Park\, MN\, 55426\, United States
CATEGORIES:B Team
END:VEVENT
BEGIN:VEVENT
DTSTART;TZID=America/Chicago:20240927T173000
DTEND;TZID=America/Chicago:20240927T190000
DTSTAMP:20260419T135948
CREATED:20240318T194644Z
LAST-MODIFIED:20240318T194644Z
UID:1803-1727458200-1727463600@jaguarboyssoccer.com
SUMMARY:B Squad Game - Benilde - St. Margaret's
DESCRIPTION:
URL:https://jaguarboyssoccer.com/event/b-squad-game-benilde-st-margarets/
LOCATION:Jefferson High School\, 4001 W 102nd St\, Bloomington\, MN\, 55437\, United States
CATEGORIES:B Team
END:VEVENT
BEGIN:VEVENT
DTSTART;TZID=America/Chicago:20240926T190000
DTEND;TZID=America/Chicago:20240926T190000
DTSTAMP:20260419T135948
CREATED:20240318T194600Z
LAST-MODIFIED:20240318T194600Z
UID:1801-1727377200-1727377200@jaguarboyssoccer.com
SUMMARY:Varsity Game - Benilde-St. Margaret's
DESCRIPTION:
URL:https://jaguarboyssoccer.com/event/varsity-game-benilde-st-margarets/
LOCATION:Bloomington Stadium\, 8900 Queen Ave South\, Bloomington\, MN\, 55431\, United States
CATEGORIES:Varsity
END:VEVENT
BEGIN:VEVENT
DTSTART;TZID=America/Chicago:20240926T173000
DTEND;TZID=America/Chicago:20240926T190000
DTSTAMP:20260419T135948
CREATED:20240318T194514Z
LAST-MODIFIED:20240318T194514Z
UID:1799-1727371800-1727377200@jaguarboyssoccer.com
SUMMARY:JV Game - Benilde-St. Margaret's
DESCRIPTION:
URL:https://jaguarboyssoccer.com/event/jv-game-benilde-st-margarets/
LOCATION:Jefferson High School\, 4001 W 102nd St\, Bloomington\, MN\, 55437\, United States
CATEGORIES:JV
END:VEVENT
BEGIN:VEVENT
DTSTART;TZID=America/Chicago:20240923T170000
DTEND;TZID=America/Chicago:20240923T190000
DTSTAMP:20260419T135948
CREATED:20240318T194424Z
LAST-MODIFIED:20240318T194424Z
UID:1797-1727110800-1727118000@jaguarboyssoccer.com
SUMMARY:Varsity Game - Bloomington Kennedy
DESCRIPTION:
URL:https://jaguarboyssoccer.com/event/varsity-game-bloomington-kennedy/
LOCATION:MN
CATEGORIES:Varsity
END:VEVENT
BEGIN:VEVENT
DTSTART;TZID=America/Chicago:20240923T160000
DTEND;TZID=America/Chicago:20240923T180000
DTSTAMP:20260419T135948
CREATED:20240318T194349Z
LAST-MODIFIED:20240318T194349Z
UID:1795-1727107200-1727114400@jaguarboyssoccer.com
SUMMARY:B Squad Game - Bloomington Kennedy
DESCRIPTION:
URL:https://jaguarboyssoccer.com/event/b-squad-game-bloomington-kennedy/
LOCATION:Jefferson High School\, 4001 W 102nd St\, Bloomington\, MN\, 55437\, United States
CATEGORIES:B Team
END:VEVENT
BEGIN:VEVENT
DTSTART;TZID=America/Chicago:20240923T160000
DTEND;TZID=America/Chicago:20240923T173000
DTSTAMP:20260419T135948
CREATED:20240318T194301Z
LAST-MODIFIED:20240318T194301Z
UID:1793-1727107200-1727112600@jaguarboyssoccer.com
SUMMARY:JV Game - Bloomington Kennedy
DESCRIPTION:
URL:https://jaguarboyssoccer.com/event/jv-game-bloomington-kennedy/
LOCATION:Jefferson High School\, 4001 W 102nd St\, Bloomington\, MN\, 55437\, United States
CATEGORIES:JV
END:VEVENT
BEGIN:VEVENT
DTSTART;TZID=America/Chicago:20240920T160000
DTEND;TZID=America/Chicago:20240920T173000
DTSTAMP:20260419T135948
CREATED:20240318T194216Z
LAST-MODIFIED:20240318T194216Z
UID:1791-1726848000-1726853400@jaguarboyssoccer.com
SUMMARY:B Squad Game - Orono
DESCRIPTION:
URL:https://jaguarboyssoccer.com/event/b-squad-game-orono/
LOCATION:Orono High School\, 795 Old Crystal Bay Rd N\, Orono\, MN\, 55356\, United States
CATEGORIES:B Team
END:VEVENT
BEGIN:VEVENT
DTSTART;TZID=America/Chicago:20240918T170000
DTEND;TZID=America/Chicago:20240918T190000
DTSTAMP:20260419T135948
CREATED:20240318T194136Z
LAST-MODIFIED:20240318T194136Z
UID:1789-1726678800-1726686000@jaguarboyssoccer.com
SUMMARY:Varsity Game - Orono
DESCRIPTION:
URL:https://jaguarboyssoccer.com/event/varsity-game-orono/
LOCATION:Orono High School\, 795 Old Crystal Bay Rd N\, Orono\, MN\, 55356\, United States
CATEGORIES:Varsity
END:VEVENT
BEGIN:VEVENT
DTSTART;TZID=America/Chicago:20240918T160000
DTEND;TZID=America/Chicago:20240918T173000
DTSTAMP:20260419T135948
CREATED:20240318T194057Z
LAST-MODIFIED:20240318T194057Z
UID:1787-1726675200-1726680600@jaguarboyssoccer.com
SUMMARY:JV Game - Orono
DESCRIPTION:
URL:https://jaguarboyssoccer.com/event/jv-game-orono/
LOCATION:Orono High School\, 795 Old Crystal Bay Rd N\, Orono\, MN\, 55356\, United States
CATEGORIES:JV
END:VEVENT
BEGIN:VEVENT
DTSTART;TZID=America/Chicago:20240917T173000
DTEND;TZID=America/Chicago:20240917T190000
DTSTAMP:20260419T135948
CREATED:20240318T194008Z
LAST-MODIFIED:20240318T194008Z
UID:1785-1726594200-1726599600@jaguarboyssoccer.com
SUMMARY:B Squad Game - Waconia
DESCRIPTION:
URL:https://jaguarboyssoccer.com/event/b-squad-game-waconia/
LOCATION:Jefferson High School\, 4001 W 102nd St\, Bloomington\, MN\, 55437\, United States
CATEGORIES:B Team
END:VEVENT
BEGIN:VEVENT
DTSTART;TZID=America/Chicago:20240916T190000
DTEND;TZID=America/Chicago:20240916T210000
DTSTAMP:20260419T135948
CREATED:20240318T193927Z
LAST-MODIFIED:20240318T193927Z
UID:1783-1726513200-1726520400@jaguarboyssoccer.com
SUMMARY:Varsity Game - Waconia
DESCRIPTION:
URL:https://jaguarboyssoccer.com/event/varsity-game-waconia/
LOCATION:Bloomington Stadium\, 8900 Queen Ave South\, Bloomington\, MN\, 55431\, United States
CATEGORIES:Varsity
END:VEVENT
BEGIN:VEVENT
DTSTART;TZID=America/Chicago:20240916T173000
DTEND;TZID=America/Chicago:20240916T173000
DTSTAMP:20260419T135948
CREATED:20240318T193844Z
LAST-MODIFIED:20240318T193844Z
UID:1781-1726507800-1726507800@jaguarboyssoccer.com
SUMMARY:JV Game - Waconia
DESCRIPTION:
URL:https://jaguarboyssoccer.com/event/jv-game-waconia/
LOCATION:Jefferson High School\, 4001 W 102nd St\, Bloomington\, MN\, 55437\, United States
CATEGORIES:JV
END:VEVENT
BEGIN:VEVENT
DTSTART;TZID=America/Chicago:20240914T120000
DTEND;TZID=America/Chicago:20240914T140000
DTSTAMP:20260419T135948
CREATED:20240318T193557Z
LAST-MODIFIED:20240318T193557Z
UID:1777-1726315200-1726322400@jaguarboyssoccer.com
SUMMARY:Varsity Game - Apple Valley
DESCRIPTION:
URL:https://jaguarboyssoccer.com/event/varsity-game-apple-valley/
LOCATION:Apple Valley High School\, 14450 Hayes Rd\, Apple Valley\, MN\, 55124\, United States
CATEGORIES:Varsity
END:VEVENT
BEGIN:VEVENT
DTSTART;TZID=America/Chicago:20240914T103000
DTEND;TZID=America/Chicago:20240914T120000
DTSTAMP:20260419T135948
CREATED:20240318T193757Z
LAST-MODIFIED:20240318T193757Z
UID:1779-1726309800-1726315200@jaguarboyssoccer.com
SUMMARY:B Squad - Apple Valley
DESCRIPTION:
URL:https://jaguarboyssoccer.com/event/b-squad-apple-valley/
LOCATION:Jefferson High School\, 4001 W 102nd St\, Bloomington\, MN\, 55437\, United States
CATEGORIES:B Team
END:VEVENT
BEGIN:VEVENT
DTSTART;TZID=America/Chicago:20240914T102000
DTEND;TZID=America/Chicago:20240914T120000
DTSTAMP:20260419T135948
CREATED:20240318T193509Z
LAST-MODIFIED:20240318T193509Z
UID:1775-1726309200-1726315200@jaguarboyssoccer.com
SUMMARY:JV Game - Apple Valley
DESCRIPTION:
URL:https://jaguarboyssoccer.com/event/jv-game-apple-valley/
LOCATION:Apple Valley High School\, 14450 Hayes Rd\, Apple Valley\, MN\, 55124\, United States
CATEGORIES:JV
END:VEVENT
BEGIN:VEVENT
DTSTART;TZID=America/Chicago:20240913T160000
DTEND;TZID=America/Chicago:20240913T180000
DTSTAMP:20260419T135948
CREATED:20240318T193411Z
LAST-MODIFIED:20240318T193411Z
UID:1773-1726243200-1726250400@jaguarboyssoccer.com
SUMMARY:B Squad Game - Chaska
DESCRIPTION:
URL:https://jaguarboyssoccer.com/event/b-squad-game-chaska/
LOCATION:Jefferson High School\, 4001 W 102nd St\, Bloomington\, MN\, 55437\, United States
CATEGORIES:B Team
END:VEVENT
BEGIN:VEVENT
DTSTART;TZID=America/Chicago:20240912T164500
DTEND;TZID=America/Chicago:20240912T183000
DTSTAMP:20260419T135948
CREATED:20240318T193325Z
LAST-MODIFIED:20240318T193325Z
UID:1771-1726159500-1726165800@jaguarboyssoccer.com
SUMMARY:Varsity Game - Chaska
DESCRIPTION:
URL:https://jaguarboyssoccer.com/event/varsity-game-chaska/
LOCATION:Jefferson High School\, 4001 W 102nd St\, Bloomington\, MN\, 55437\, United States
CATEGORIES:Varsity
END:VEVENT
BEGIN:VEVENT
DTSTART;TZID=America/Chicago:20240912T160000
DTEND;TZID=America/Chicago:20240912T180000
DTSTAMP:20260419T135948
CREATED:20240318T193234Z
LAST-MODIFIED:20240318T193234Z
UID:1769-1726156800-1726164000@jaguarboyssoccer.com
SUMMARY:JV Game - Chaska
DESCRIPTION:
URL:https://jaguarboyssoccer.com/event/jv-game-chaska/
LOCATION:Jefferson High School\, 4001 W 102nd St\, Bloomington\, MN\, 55437\, United States
CATEGORIES:JV
END:VEVENT
BEGIN:VEVENT
DTSTART;TZID=America/Chicago:20240910T190000
DTEND;TZID=America/Chicago:20240910T210000
DTSTAMP:20260419T135948
CREATED:20240318T193051Z
LAST-MODIFIED:20240318T193051Z
UID:1765-1725994800-1726002000@jaguarboyssoccer.com
SUMMARY:Varsity Game - New Prague
DESCRIPTION:
URL:https://jaguarboyssoccer.com/event/varsity-game-new-prague/
LOCATION:New Prague High School\, 221 12th St NE\, New Prague\, MN\, 56071\, United States
CATEGORIES:Varsity
END:VEVENT
BEGIN:VEVENT
DTSTART;TZID=America/Chicago:20240910T173000
DTEND;TZID=America/Chicago:20240910T190000
DTSTAMP:20260419T135948
CREATED:20240318T193147Z
LAST-MODIFIED:20240318T193147Z
UID:1767-1725989400-1725994800@jaguarboyssoccer.com
SUMMARY:JV Game - New Prague
DESCRIPTION:
URL:https://jaguarboyssoccer.com/event/jv-game-new-prague/
LOCATION:New Prague High School\, 221 12th St NE\, New Prague\, MN\, 56071\, United States
CATEGORIES:JV
END:VEVENT
END:VCALENDAR