BEGIN:VCALENDAR
VERSION:2.0
PRODID:-//Jefferson Boys Soccer - ECPv6.15.17.1//NONSGML v1.0//EN
CALSCALE:GREGORIAN
METHOD:PUBLISH
X-ORIGINAL-URL:https://jaguarboyssoccer.com
X-WR-CALDESC:Events for Jefferson Boys Soccer
REFRESH-INTERVAL;VALUE=DURATION:PT1H
X-Robots-Tag:noindex
X-PUBLISHED-TTL:PT1H
BEGIN:VTIMEZONE
TZID:America/Chicago
BEGIN:DAYLIGHT
TZOFFSETFROM:-0600
TZOFFSETTO:-0500
TZNAME:CDT
DTSTART:20230312T080000
END:DAYLIGHT
BEGIN:STANDARD
TZOFFSETFROM:-0500
TZOFFSETTO:-0600
TZNAME:CST
DTSTART:20231105T070000
END:STANDARD
BEGIN:DAYLIGHT
TZOFFSETFROM:-0600
TZOFFSETTO:-0500
TZNAME:CDT
DTSTART:20240310T080000
END:DAYLIGHT
BEGIN:STANDARD
TZOFFSETFROM:-0500
TZOFFSETTO:-0600
TZNAME:CST
DTSTART:20241103T070000
END:STANDARD
BEGIN:DAYLIGHT
TZOFFSETFROM:-0600
TZOFFSETTO:-0500
TZNAME:CDT
DTSTART:20250309T080000
END:DAYLIGHT
BEGIN:STANDARD
TZOFFSETFROM:-0500
TZOFFSETTO:-0600
TZNAME:CST
DTSTART:20251102T070000
END:STANDARD
END:VTIMEZONE
BEGIN:VEVENT
DTSTART;TZID=America/Chicago:20240914T102000
DTEND;TZID=America/Chicago:20240914T120000
DTSTAMP:20260419T165620
CREATED:20240318T193509Z
LAST-MODIFIED:20240318T193509Z
UID:1775-1726309200-1726315200@jaguarboyssoccer.com
SUMMARY:JV Game - Apple Valley
DESCRIPTION:
URL:https://jaguarboyssoccer.com/event/jv-game-apple-valley/
LOCATION:Apple Valley High School\, 14450 Hayes Rd\, Apple Valley\, MN\, 55124\, United States
CATEGORIES:JV
END:VEVENT
BEGIN:VEVENT
DTSTART;TZID=America/Chicago:20240913T160000
DTEND;TZID=America/Chicago:20240913T180000
DTSTAMP:20260419T165620
CREATED:20240318T193411Z
LAST-MODIFIED:20240318T193411Z
UID:1773-1726243200-1726250400@jaguarboyssoccer.com
SUMMARY:B Squad Game - Chaska
DESCRIPTION:
URL:https://jaguarboyssoccer.com/event/b-squad-game-chaska/
LOCATION:Jefferson High School\, 4001 W 102nd St\, Bloomington\, MN\, 55437\, United States
CATEGORIES:B Team
END:VEVENT
BEGIN:VEVENT
DTSTART;TZID=America/Chicago:20240912T164500
DTEND;TZID=America/Chicago:20240912T183000
DTSTAMP:20260419T165620
CREATED:20240318T193325Z
LAST-MODIFIED:20240318T193325Z
UID:1771-1726159500-1726165800@jaguarboyssoccer.com
SUMMARY:Varsity Game - Chaska
DESCRIPTION:
URL:https://jaguarboyssoccer.com/event/varsity-game-chaska/
LOCATION:Jefferson High School\, 4001 W 102nd St\, Bloomington\, MN\, 55437\, United States
CATEGORIES:Varsity
END:VEVENT
BEGIN:VEVENT
DTSTART;TZID=America/Chicago:20240912T160000
DTEND;TZID=America/Chicago:20240912T180000
DTSTAMP:20260419T165620
CREATED:20240318T193234Z
LAST-MODIFIED:20240318T193234Z
UID:1769-1726156800-1726164000@jaguarboyssoccer.com
SUMMARY:JV Game - Chaska
DESCRIPTION:
URL:https://jaguarboyssoccer.com/event/jv-game-chaska/
LOCATION:Jefferson High School\, 4001 W 102nd St\, Bloomington\, MN\, 55437\, United States
CATEGORIES:JV
END:VEVENT
BEGIN:VEVENT
DTSTART;TZID=America/Chicago:20240910T190000
DTEND;TZID=America/Chicago:20240910T210000
DTSTAMP:20260419T165620
CREATED:20240318T193051Z
LAST-MODIFIED:20240318T193051Z
UID:1765-1725994800-1726002000@jaguarboyssoccer.com
SUMMARY:Varsity Game - New Prague
DESCRIPTION:
URL:https://jaguarboyssoccer.com/event/varsity-game-new-prague/
LOCATION:New Prague High School\, 221 12th St NE\, New Prague\, MN\, 56071\, United States
CATEGORIES:Varsity
END:VEVENT
BEGIN:VEVENT
DTSTART;TZID=America/Chicago:20240910T173000
DTEND;TZID=America/Chicago:20240910T190000
DTSTAMP:20260419T165620
CREATED:20240318T193147Z
LAST-MODIFIED:20240318T193147Z
UID:1767-1725989400-1725994800@jaguarboyssoccer.com
SUMMARY:JV Game - New Prague
DESCRIPTION:
URL:https://jaguarboyssoccer.com/event/jv-game-new-prague/
LOCATION:New Prague High School\, 221 12th St NE\, New Prague\, MN\, 56071\, United States
CATEGORIES:JV
END:VEVENT
BEGIN:VEVENT
DTSTART;TZID=America/Chicago:20240907T130000
DTEND;TZID=America/Chicago:20240907T150000
DTSTAMP:20260419T165620
CREATED:20240318T193005Z
LAST-MODIFIED:20240318T193005Z
UID:1763-1725714000-1725721200@jaguarboyssoccer.com
SUMMARY:B Squad Game - Burnsville
DESCRIPTION:
URL:https://jaguarboyssoccer.com/event/b-squad-game-burnsville/
LOCATION:Burnsville High School\, 600 Highway 13 E\, Burnsville\, MN\, 55337\, United States
CATEGORIES:B Team
END:VEVENT
BEGIN:VEVENT
DTSTART;TZID=America/Chicago:20240907T130000
DTEND;TZID=America/Chicago:20240907T150000
DTSTAMP:20260419T165620
CREATED:20240318T192922Z
LAST-MODIFIED:20240318T192922Z
UID:1761-1725714000-1725721200@jaguarboyssoccer.com
SUMMARY:JV Game - Burnsville
DESCRIPTION:
URL:https://jaguarboyssoccer.com/event/jv-game-burnsville/
LOCATION:Jefferson High School\, 4001 W 102nd St\, Bloomington\, MN\, 55437\, United States
CATEGORIES:JV
END:VEVENT
BEGIN:VEVENT
DTSTART;TZID=America/Chicago:20240907T130000
DTEND;TZID=America/Chicago:20240907T150000
DTSTAMP:20260419T165620
CREATED:20240318T192836Z
LAST-MODIFIED:20240318T192836Z
UID:1759-1725714000-1725721200@jaguarboyssoccer.com
SUMMARY:Varsity Game - Burnsville
DESCRIPTION:
URL:https://jaguarboyssoccer.com/event/varsity-game-burnsville/
LOCATION:Jefferson High School\, 4001 W 102nd St\, Bloomington\, MN\, 55437\, United States
CATEGORIES:Varsity
END:VEVENT
BEGIN:VEVENT
DTSTART;TZID=America/Chicago:20240906T160000
DTEND;TZID=America/Chicago:20240906T180000
DTSTAMP:20260419T165620
CREATED:20240318T192746Z
LAST-MODIFIED:20240318T192746Z
UID:1757-1725638400-1725645600@jaguarboyssoccer.com
SUMMARY:B Squad Game - Chanhassen
DESCRIPTION:
URL:https://jaguarboyssoccer.com/event/b-squad-game-chanhassen/
LOCATION:Bandimere Park\, 9405 Great Plains Blvd\, Chanhassen\, MN\, 55317\, United States
CATEGORIES:B Team
END:VEVENT
BEGIN:VEVENT
DTSTART;TZID=America/Chicago:20240905T170000
DTEND;TZID=America/Chicago:20240905T190000
DTSTAMP:20260419T165620
CREATED:20240318T192700Z
LAST-MODIFIED:20240318T192700Z
UID:1755-1725555600-1725562800@jaguarboyssoccer.com
SUMMARY:Varsity Game - Chanhassen
DESCRIPTION:
URL:https://jaguarboyssoccer.com/event/varsity-game-chanhassen/
LOCATION:Chanhassen High School\, 2200 Lyman Blvd\, Chanhassen\, MN\, 55317\, United States
CATEGORIES:Varsity
END:VEVENT
BEGIN:VEVENT
DTSTART;TZID=America/Chicago:20240905T160000
DTEND;TZID=America/Chicago:20240905T180000
DTSTAMP:20260419T165620
CREATED:20240318T192625Z
LAST-MODIFIED:20240318T192625Z
UID:1753-1725552000-1725559200@jaguarboyssoccer.com
SUMMARY:JV Game - Chanhassen
DESCRIPTION:
URL:https://jaguarboyssoccer.com/event/jv-game-chanhassen/
LOCATION:Bandimere Park\, 9405 Great Plains Blvd\, Chanhassen\, MN\, 55317\, United States
CATEGORIES:JV
END:VEVENT
BEGIN:VEVENT
DTSTART;TZID=America/Chicago:20240903T180000
DTEND;TZID=America/Chicago:20240903T200000
DTSTAMP:20260419T165620
CREATED:20240318T192522Z
LAST-MODIFIED:20240318T192522Z
UID:1751-1725386400-1725393600@jaguarboyssoccer.com
SUMMARY:B Squad Game - Eastview
DESCRIPTION:
URL:https://jaguarboyssoccer.com/event/b-squad-game-eastview/
LOCATION:Eastview High School\, 6200 140th Street West\, Apple Valley\, MN\, 55124\, United States
CATEGORIES:B Team
END:VEVENT
BEGIN:VEVENT
DTSTART;TZID=America/Chicago:20240903T180000
DTEND;TZID=America/Chicago:20240903T200000
DTSTAMP:20260419T165620
CREATED:20240318T192445Z
LAST-MODIFIED:20240318T192445Z
UID:1749-1725386400-1725393600@jaguarboyssoccer.com
SUMMARY:JV Game - Eastview
DESCRIPTION:
URL:https://jaguarboyssoccer.com/event/jv-game-eastview/
LOCATION:Jefferson High School\, 4001 W 102nd St\, Bloomington\, MN\, 55437\, United States
CATEGORIES:JV
END:VEVENT
BEGIN:VEVENT
DTSTART;TZID=America/Chicago:20240903T180000
DTEND;TZID=America/Chicago:20240903T200000
DTSTAMP:20260419T165620
CREATED:20240318T192345Z
LAST-MODIFIED:20240318T192345Z
UID:1747-1725386400-1725393600@jaguarboyssoccer.com
SUMMARY:Varsity Game - Eastview
DESCRIPTION:
URL:https://jaguarboyssoccer.com/event/varsity-game-eastview/
LOCATION:Jefferson High School\, 4001 W 102nd St\, Bloomington\, MN\, 55437\, United States
CATEGORIES:Varsity
END:VEVENT
BEGIN:VEVENT
DTSTART;TZID=America/Chicago:20240829T190000
DTEND;TZID=America/Chicago:20240829T210000
DTSTAMP:20260419T165620
CREATED:20240318T151257Z
LAST-MODIFIED:20240318T151257Z
UID:1734-1724958000-1724965200@jaguarboyssoccer.com
SUMMARY:Varsity Game - Rosemount
DESCRIPTION:
URL:https://jaguarboyssoccer.com/event/varsity-game-rosemount/
LOCATION:Rosemount High School\, 3335 142nd Street West\, Rosemount\, MN\, 55068\, United States
CATEGORIES:Varsity
END:VEVENT
BEGIN:VEVENT
DTSTART;TZID=America/Chicago:20240829T170000
DTEND;TZID=America/Chicago:20240829T190000
DTSTAMP:20260419T165620
CREATED:20240318T151009Z
LAST-MODIFIED:20240318T151133Z
UID:1728-1724950800-1724958000@jaguarboyssoccer.com
SUMMARY:JV Game - Rosemount
DESCRIPTION:
URL:https://jaguarboyssoccer.com/event/jv-game-rosemount/
LOCATION:Rosemount High School\, 3335 142nd Street West\, Rosemount\, MN\, 55068\, United States
CATEGORIES:JV
END:VEVENT
BEGIN:VEVENT
DTSTART;TZID=America/Chicago:20240829T170000
DTEND;TZID=America/Chicago:20240829T170000
DTSTAMP:20260419T165620
CREATED:20240318T151212Z
LAST-MODIFIED:20240318T151212Z
UID:1732-1724950800-1724950800@jaguarboyssoccer.com
SUMMARY:B Squad Game - Rosemount
DESCRIPTION:
URL:https://jaguarboyssoccer.com/event/b-squad-game-rosemount/
LOCATION:Rosemount High School\, 3335 142nd Street West\, Rosemount\, MN\, 55068\, United States
CATEGORIES:B Team
END:VEVENT
BEGIN:VEVENT
DTSTART;TZID=America/Chicago:20240827T170000
DTEND;TZID=America/Chicago:20240827T190000
DTSTAMP:20260419T165620
CREATED:20240318T150921Z
LAST-MODIFIED:20240318T150921Z
UID:1726-1724778000-1724785200@jaguarboyssoccer.com
SUMMARY:Varsity Game - Eagan
DESCRIPTION:
URL:https://jaguarboyssoccer.com/event/varsity-game-eagan/
LOCATION:Eagan High School\, 4185 Braddock Trail\, Eagan\, MN\, 55123\, United States
CATEGORIES:Varsity
END:VEVENT
BEGIN:VEVENT
DTSTART;TZID=America/Chicago:20240827T153000
DTEND;TZID=America/Chicago:20240827T173000
DTSTAMP:20260419T165620
CREATED:20240318T150827Z
LAST-MODIFIED:20240318T150827Z
UID:1724-1724772600-1724779800@jaguarboyssoccer.com
SUMMARY:B-Squad Game - Eagan
DESCRIPTION:
URL:https://jaguarboyssoccer.com/event/b-squad-game-eagan/
LOCATION:Eagan High School\, 4185 Braddock Trail\, Eagan\, MN\, 55123\, United States
CATEGORIES:B Team
END:VEVENT
BEGIN:VEVENT
DTSTART;TZID=America/Chicago:20240827T153000
DTEND;TZID=America/Chicago:20240827T173000
DTSTAMP:20260419T165620
CREATED:20240318T150737Z
LAST-MODIFIED:20240318T150737Z
UID:1722-1724772600-1724779800@jaguarboyssoccer.com
SUMMARY:JV Game - Eagan
DESCRIPTION:
URL:https://jaguarboyssoccer.com/event/jv-game-eagan/
LOCATION:Eagan High School\, 4185 Braddock Trail\, Eagan\, MN\, 55123\, United States
CATEGORIES:JV
END:VEVENT
BEGIN:VEVENT
DTSTART;TZID=America/Chicago:20240824T110000
DTEND;TZID=America/Chicago:20240824T130000
DTSTAMP:20260419T165620
CREATED:20240318T150651Z
LAST-MODIFIED:20240318T150651Z
UID:1720-1724497200-1724504400@jaguarboyssoccer.com
SUMMARY:JV Game - Hastings
DESCRIPTION:
URL:https://jaguarboyssoccer.com/event/jv-game-hastings/
LOCATION:Hastings High School\, 200 General Sieben Drive\, Hastings\, MN\, 55033\, United States
CATEGORIES:JV
END:VEVENT
BEGIN:VEVENT
DTSTART;TZID=America/Chicago:20240824T110000
DTEND;TZID=America/Chicago:20240824T130000
DTSTAMP:20260419T165620
CREATED:20240318T150411Z
LAST-MODIFIED:20240318T150611Z
UID:1716-1724497200-1724504400@jaguarboyssoccer.com
SUMMARY:Varsity Game - Hastings
DESCRIPTION:
URL:https://jaguarboyssoccer.com/event/varsity-game-hastings/
LOCATION:Hastings – McNamara Stadium/Todd Field\, 198 10th St. W\, Hastings\, MN\, 55033\, United States
CATEGORIES:Varsity
END:VEVENT
BEGIN:VEVENT
DTSTART;TZID=America/Chicago:20240824T090000
DTEND;TZID=America/Chicago:20240824T110000
DTSTAMP:20260419T165620
CREATED:20240318T150253Z
LAST-MODIFIED:20240318T150253Z
UID:1714-1724490000-1724497200@jaguarboyssoccer.com
SUMMARY:B Squad Game - Hastings
DESCRIPTION:
URL:https://jaguarboyssoccer.com/event/b-squad-game-hastings/
LOCATION:Hastings High School\, 200 General Sieben Drive\, Hastings\, MN\, 55033\, United States
CATEGORIES:B Team
END:VEVENT
BEGIN:VEVENT
DTSTART;TZID=America/Chicago:20240822T170000
DTEND;TZID=America/Chicago:20240822T190000
DTSTAMP:20260419T165620
CREATED:20240318T150059Z
LAST-MODIFIED:20240318T150059Z
UID:1712-1724346000-1724353200@jaguarboyssoccer.com
SUMMARY:Varsity Game - Park
DESCRIPTION:
URL:https://jaguarboyssoccer.com/event/varsity-game-park/
LOCATION:Park High School\, 8040 80th Street South\, Cottage Grove\, 55016\, United States
CATEGORIES:Varsity
END:VEVENT
BEGIN:VEVENT
DTSTART;TZID=America/Chicago:20240822T163000
DTEND;TZID=America/Chicago:20240822T183000
DTSTAMP:20260419T165620
CREATED:20240318T150010Z
LAST-MODIFIED:20240318T150010Z
UID:1710-1724344200-1724351400@jaguarboyssoccer.com
SUMMARY:B Squad Game - Park
DESCRIPTION:
URL:https://jaguarboyssoccer.com/event/b-squad-game-park/
LOCATION:Jefferson High School\, 4001 W 102nd St\, Bloomington\, MN\, 55437\, United States
CATEGORIES:B Team
END:VEVENT
BEGIN:VEVENT
DTSTART;TZID=America/Chicago:20240822T160000
DTEND;TZID=America/Chicago:20240822T180000
DTSTAMP:20260419T165620
CREATED:20240318T145920Z
LAST-MODIFIED:20240318T145920Z
UID:1708-1724342400-1724349600@jaguarboyssoccer.com
SUMMARY:JV Game - Park
DESCRIPTION:
URL:https://jaguarboyssoccer.com/event/jv-game-park/
LOCATION:Park High School\, 8040 80th Street South\, Cottage Grove\, 55016\, United States
CATEGORIES:JV
END:VEVENT
BEGIN:VEVENT
DTSTART;TZID=America/Chicago:20240820T180000
DTEND;TZID=America/Chicago:20240820T193000
DTSTAMP:20260419T165620
CREATED:20240803T165503Z
LAST-MODIFIED:20240803T165503Z
UID:1907-1724176800-1724182200@jaguarboyssoccer.com
SUMMARY:Preseason Player/Parent Meeting
DESCRIPTION:There will be a preseason player\, parent\, and coach meeting on August 20th at Jefferson High School in the Cafeteria. The meeting will run from 6:00 PM until 7:30 PM. \nThe meeting should answer any questions that you have about the season! Bring a list of questions and we will be sure to answer them.
URL:https://jaguarboyssoccer.com/event/preseason-player-parent-meeting/
LOCATION:Jefferson High School\, 4001 W 102nd St\, Bloomington\, MN\, 55437\, United States
CATEGORIES:B Team,Booster Club,JV,Varsity
END:VEVENT
BEGIN:VEVENT
DTSTART;TZID=America/Chicago:20240820T120000
DTEND;TZID=America/Chicago:20240820T150000
DTSTAMP:20260419T165620
CREATED:20240801T210824Z
LAST-MODIFIED:20240801T210824Z
UID:1904-1724155200-1724166000@jaguarboyssoccer.com
SUMMARY:Scrimmage vs. Prior Lake
DESCRIPTION:All squads will be scrimmaging Prior Lake\, with kick off at 12:30 PM for all levels. This is an away scrimmage\, and there is no bus for the event. Players will need to get transportation to and from the game.  \n 
URL:https://jaguarboyssoccer.com/event/scrimmage-vs-prior-lake/
LOCATION:MN
CATEGORIES:B Team,JV,Varsity
END:VEVENT
BEGIN:VEVENT
DTSTART;TZID=America/Chicago:20240819T100000
DTEND;TZID=America/Chicago:20240819T140000
DTSTAMP:20260419T165620
CREATED:20240801T210654Z
LAST-MODIFIED:20240801T210654Z
UID:1902-1724061600-1724076000@jaguarboyssoccer.com
SUMMARY:Scrimmage vs. St. Paul Central
DESCRIPTION:Varsity and JV will be scrimmaging St. Paul Central on 8/19. This is in place of their AM training session. There is no bus for this event – players and parents will need to provide transportation to and from the game. \nJV kicks off at 10:30 AM\, Varsity kicks off at 12:00 PM. Please arrive 40 minutes prior to kick off.
URL:https://jaguarboyssoccer.com/event/scrimmage-vs-st-paul-central/
LOCATION:MN
CATEGORIES:JV,Varsity
END:VEVENT
END:VCALENDAR