BEGIN:VCALENDAR
VERSION:2.0
PRODID:-//Jefferson Boys Soccer - ECPv6.15.17.1//NONSGML v1.0//EN
CALSCALE:GREGORIAN
METHOD:PUBLISH
X-WR-CALNAME:Jefferson Boys Soccer
X-ORIGINAL-URL:https://jaguarboyssoccer.com
X-WR-CALDESC:Events for Jefferson Boys Soccer
REFRESH-INTERVAL;VALUE=DURATION:PT1H
X-Robots-Tag:noindex
X-PUBLISHED-TTL:PT1H
BEGIN:VTIMEZONE
TZID:America/Chicago
BEGIN:DAYLIGHT
TZOFFSETFROM:-0600
TZOFFSETTO:-0500
TZNAME:CDT
DTSTART:20220313T080000
END:DAYLIGHT
BEGIN:STANDARD
TZOFFSETFROM:-0500
TZOFFSETTO:-0600
TZNAME:CST
DTSTART:20221106T070000
END:STANDARD
BEGIN:DAYLIGHT
TZOFFSETFROM:-0600
TZOFFSETTO:-0500
TZNAME:CDT
DTSTART:20230312T080000
END:DAYLIGHT
BEGIN:STANDARD
TZOFFSETFROM:-0500
TZOFFSETTO:-0600
TZNAME:CST
DTSTART:20231105T070000
END:STANDARD
BEGIN:DAYLIGHT
TZOFFSETFROM:-0600
TZOFFSETTO:-0500
TZNAME:CDT
DTSTART:20240310T080000
END:DAYLIGHT
BEGIN:STANDARD
TZOFFSETFROM:-0500
TZOFFSETTO:-0600
TZNAME:CST
DTSTART:20241103T070000
END:STANDARD
BEGIN:DAYLIGHT
TZOFFSETFROM:-0600
TZOFFSETTO:-0500
TZNAME:CDT
DTSTART:20250309T080000
END:DAYLIGHT
BEGIN:STANDARD
TZOFFSETFROM:-0500
TZOFFSETTO:-0600
TZNAME:CST
DTSTART:20251102T070000
END:STANDARD
END:VTIMEZONE
BEGIN:VEVENT
DTSTART;TZID=America/Chicago:20240730T110000
DTEND;TZID=America/Chicago:20240730T130000
DTSTAMP:20260419T225319
CREATED:20240520T145439Z
LAST-MODIFIED:20240520T145439Z
UID:1841-1722337200-1722344400@jaguarboyssoccer.com
SUMMARY:Captains Practice - July 30th
DESCRIPTION:Captains Practices have been finalized and updated on the school field calendar. Although we’ll have Captains Practices all summer long on Monday\, Wednesday\, and Thursday (starting June 3rd\, 10:00-12:30\, at Brookside Park)\, these are the traditional two-week sessions prior to the start of the season. \nThese sessions will take place starting on July 29th and run Monday through Friday from 11:00 AM to 1:00 PM. All of these sessions will be on the turf field at Jefferson High School. A parent will need to be present for all of these sessions. This is also a “No Contact” period for all coaches with the high school program\, so coaches cannot attend or be involved in any way for these sessions. \nThese are a great chance to get some final tune-ups prior to tryouts! Playing on turf is very different from grass for those players that have not used turf as often. Attendance for these two weeks is highly encouraged!
URL:https://jaguarboyssoccer.com/event/captains-practice-july-30th/
LOCATION:Jefferson High School\, 4001 W 102nd St\, Bloomington\, MN\, 55437\, United States
CATEGORIES:B Team,JV,Varsity
END:VEVENT
BEGIN:VEVENT
DTSTART;TZID=America/Chicago:20240729T110000
DTEND;TZID=America/Chicago:20240729T130000
DTSTAMP:20260419T225319
CREATED:20240520T145338Z
LAST-MODIFIED:20240520T145338Z
UID:1839-1722250800-1722258000@jaguarboyssoccer.com
SUMMARY:Captains Practice - July 29th
DESCRIPTION:Captains Practices have been finalized and updated on the school field calendar. Although we’ll have Captains Practices all summer long on Monday\, Wednesday\, and Thursday (starting June 3rd\, 10:00-12:30\, at Brookside Park)\, these are the traditional two-week sessions prior to the start of the season. \nThese sessions will take place starting on July 29th and run Monday through Friday from 11:00 AM to 1:00 PM. All of these sessions will be on the turf field at Jefferson High School. A parent will need to be present for all of these sessions. This is also a “No Contact” period for all coaches with the high school program\, so coaches cannot attend or be involved in any way for these sessions. \nThese are a great chance to get some final tune-ups prior to tryouts! Playing on turf is very different from grass for those players that have not used turf as often. Attendance for these two weeks is highly encouraged!
URL:https://jaguarboyssoccer.com/event/captains-practice-july-29th/
LOCATION:Jefferson High School\, 4001 W 102nd St\, Bloomington\, MN\, 55437\, United States
CATEGORIES:B Team,JV,Varsity
END:VEVENT
BEGIN:VEVENT
DTSTART;TZID=America/Chicago:20240513T190000
DTEND;TZID=America/Chicago:20240513T200000
DTSTAMP:20260419T225319
CREATED:20240318T145533Z
LAST-MODIFIED:20240318T145533Z
UID:1704-1715626800-1715630400@jaguarboyssoccer.com
SUMMARY:Pre-Season Parent Informational Meeting
DESCRIPTION:
URL:https://jaguarboyssoccer.com/event/pre-season-parent-informational-meeting/
LOCATION:Jefferson High School\, 4001 W 102nd St\, Bloomington\, MN\, 55437\, United States
END:VEVENT
BEGIN:VEVENT
DTSTART;TZID=America/Chicago:20240418T103000
DTEND;TZID=America/Chicago:20240418T120000
DTSTAMP:20260419T225319
CREATED:20240416T183805Z
LAST-MODIFIED:20240417T202113Z
UID:1821-1713436200-1713441600@jaguarboyssoccer.com
SUMMARY:Olson Middle School - Informational Meeting During Advisory
DESCRIPTION:Meet in Auditorium. You will be dismissed by your Advisory teacher. \n7th Grade – 10:50 to 11:00 \n6th Grade – 11:20 to 11:30 \n8th Grade – 11:40 to 11:50
URL:https://jaguarboyssoccer.com/event/olson-middle-school-informational-meeting-during-advisory/
LOCATION:MN
END:VEVENT
BEGIN:VEVENT
DTSTART;TZID=America/Chicago:20231106T180000
DTEND;TZID=America/Chicago:20231106T193000
DTSTAMP:20260419T225319
CREATED:20230308T010528Z
LAST-MODIFIED:20231022T041952Z
UID:1378-1699293600-1699299000@jaguarboyssoccer.com
SUMMARY:Banquet
DESCRIPTION:
URL:https://jaguarboyssoccer.com/event/banquet-2/
LOCATION:Minnesota Valley Country Club\, 6300 Auto Club Rd\, Bloomington\, MN\, 55438\, United States
CATEGORIES:B Team,Booster Club,JV,Varsity
END:VEVENT
BEGIN:VEVENT
DTSTART;TZID=America/Chicago:20231012T191500
DTEND;TZID=America/Chicago:20231012T204500
DTSTAMP:20260419T225319
CREATED:20231011T151348Z
LAST-MODIFIED:20231011T151348Z
UID:1693-1697138100-1697143500@jaguarboyssoccer.com
SUMMARY:Varsity @ Park
DESCRIPTION:Date: 10/12/2023\nEvent type: Section Semis\nHome/Host: Park\nOpponent: Bloomington Jefferson\nStart Time: 7:15PM CDT\nLocation: Park High School\, 8040 80th Street South\, Cottage Grove\, MN
URL:https://jaguarboyssoccer.com/event/varsity-park-2/
LOCATION:Park High School\, 8040 80th Street South\, Cottage Grove\, 55016\, United States
CATEGORIES:Varsity
END:VEVENT
BEGIN:VEVENT
DTSTART;TZID=America/Chicago:20231010T170000
DTEND;TZID=America/Chicago:20231010T183000
DTSTAMP:20260419T225319
CREATED:20231008T172002Z
LAST-MODIFIED:20231008T172141Z
UID:1685-1696957200-1696962600@jaguarboyssoccer.com
SUMMARY:Varsity @ Eagan
DESCRIPTION:Come out Tuesday and watch the varsity team take on Eagan for their 1st section game.  Game starts at 5:00 at Eagan High School.\nGO JAGS!!!\nElectronic Tickets: https://www.vancoevents.com/us/eventlist/eaganhighschool?embed=1
URL:https://jaguarboyssoccer.com/event/varsity-eagan/
LOCATION:Eagan High School\, 4185 Braddock Trail\, Eagan\, MN\, 55123\, United States
CATEGORIES:Varsity
END:VEVENT
BEGIN:VEVENT
DTSTART;TZID=America/Chicago:20231006T154500
DTEND;TZID=America/Chicago:20231006T171500
DTSTAMP:20260419T225319
CREATED:20230731T022542Z
LAST-MODIFIED:20230913T123606Z
UID:1451-1696607100-1696612500@jaguarboyssoccer.com
SUMMARY:JV @ Chanhassen
DESCRIPTION:School dismissal 2:15pm \nBus leaves 2:30pm \nBus returns 5:30pm
URL:https://jaguarboyssoccer.com/event/jv-chanhassen/
LOCATION:Bandimere Park\, 9405 Great Plains Blvd\, Chanhassen\, MN\, 55317\, United States
CATEGORIES:JV
END:VEVENT
BEGIN:VEVENT
DTSTART;TZID=America/Chicago:20231005T164500
DTEND;TZID=America/Chicago:20231005T181500
DTSTAMP:20260419T225319
CREATED:20230731T022808Z
LAST-MODIFIED:20231003T115145Z
UID:1470-1696524300-1696529700@jaguarboyssoccer.com
SUMMARY:Varsity @ Chanhassen
DESCRIPTION:LOCATION: Storm Stadium (Artificial Turf)\nChanhassen High School\n2200 Lyman Boulevard\, Chanhassen\, MN 55317 \nTICKET INFORMATION: Our ticket platform is Go Fan.\nTicket Link For Game: : https://gofan.co/event/1082009?schoolId=MN25554 \nPlease purchase their tickets before their arrival to help avoid any long lines for entrance. \nSTREAMING: Both the girls and boys games will be live streamed for free on YouTube.
URL:https://jaguarboyssoccer.com/event/varsity-chanhassen/
LOCATION:Chanhassen High School\, 2200 Lyman Blvd\, Chanhassen\, MN\, 55317\, United States
CATEGORIES:Varsity
END:VEVENT
BEGIN:VEVENT
DTSTART;TZID=America/Chicago:20231005T154500
DTEND;TZID=America/Chicago:20231005T171500
DTSTAMP:20260419T225319
CREATED:20230731T022253Z
LAST-MODIFIED:20231005T165209Z
UID:1435-1696520700-1696526100@jaguarboyssoccer.com
SUMMARY:B @ Chanhassen
DESCRIPTION:Bus Leaves: 2:30pm \nBus Return: 5:15pm
URL:https://jaguarboyssoccer.com/event/b-chanhassen/
LOCATION:Bandimere Park\, 9405 Great Plains Blvd\, Chanhassen\, MN\, 55317\, United States
CATEGORIES:B Team
END:VEVENT
BEGIN:VEVENT
DTSTART;TZID=America/Chicago:20231005T144500
DTEND;TZID=America/Chicago:20231005T163000
DTSTAMP:20260419T225319
CREATED:20230820T195216Z
LAST-MODIFIED:20230913T124125Z
UID:1555-1696517100-1696523400@jaguarboyssoccer.com
SUMMARY:Training
DESCRIPTION:
URL:https://jaguarboyssoccer.com/event/training-84/
LOCATION:Jefferson High School\, 4001 W 102nd St\, Bloomington\, MN\, 55437\, United States
CATEGORIES:JV
END:VEVENT
BEGIN:VEVENT
DTSTART;TZID=America/Chicago:20231004T160000
DTEND;TZID=America/Chicago:20231004T173000
DTSTAMP:20260419T225319
CREATED:20230731T022252Z
LAST-MODIFIED:20231003T114854Z
UID:1432-1696435200-1696440600@jaguarboyssoccer.com
SUMMARY:B vs Kennedy
DESCRIPTION:BUS LEAVES: 3:15PM CDT\nEST.RETURN TIME: 5:30PM CDT
URL:https://jaguarboyssoccer.com/event/b-vs-kennedy/
LOCATION:Kennedy High School\, 9701 Nicollet Avenue S\, Bloomington\, MN\, 55420\, United States
CATEGORIES:B Team
END:VEVENT
BEGIN:VEVENT
DTSTART;TZID=America/Chicago:20231004T144500
DTEND;TZID=America/Chicago:20231004T163000
DTSTAMP:20260419T225319
CREATED:20230820T195137Z
LAST-MODIFIED:20231003T114810Z
UID:1554-1696430700-1696437000@jaguarboyssoccer.com
SUMMARY:Training
DESCRIPTION:
URL:https://jaguarboyssoccer.com/event/training-83/
LOCATION:Jefferson High School\, 4001 W 102nd St\, Bloomington\, MN\, 55437\, United States
CATEGORIES:JV,Varsity
END:VEVENT
BEGIN:VEVENT
DTSTART;TZID=America/Chicago:20231003T170000
DTEND;TZID=America/Chicago:20231003T183000
DTSTAMP:20260419T225319
CREATED:20230731T022808Z
LAST-MODIFIED:20230731T022808Z
UID:1469-1696352400-1696357800@jaguarboyssoccer.com
SUMMARY:Varsity @ Eastview
DESCRIPTION:
URL:https://jaguarboyssoccer.com/event/varsity-eastview/
LOCATION:Eastview High School\, 6200 140th Street West\, Apple Valley\, MN\, 55124\, United States
CATEGORIES:Varsity
END:VEVENT
BEGIN:VEVENT
DTSTART;TZID=America/Chicago:20231003T160000
DTEND;TZID=America/Chicago:20231003T173000
DTSTAMP:20260419T225319
CREATED:20230731T022542Z
LAST-MODIFIED:20230820T191531Z
UID:1450-1696348800-1696354200@jaguarboyssoccer.com
SUMMARY:JV @ Eastview
DESCRIPTION:Bus leaves 2:45pm \nBus returns 5:45pm
URL:https://jaguarboyssoccer.com/event/jv-eastview/
LOCATION:Eastview High School\, 6200 140th Street West\, Apple Valley\, MN\, 55124\, United States
CATEGORIES:JV
END:VEVENT
BEGIN:VEVENT
DTSTART;TZID=America/Chicago:20231003T160000
DTEND;TZID=America/Chicago:20231003T173000
DTSTAMP:20260419T225319
CREATED:20230731T022252Z
LAST-MODIFIED:20230731T022252Z
UID:1434-1696348800-1696354200@jaguarboyssoccer.com
SUMMARY:B @ Eastview
DESCRIPTION:
URL:https://jaguarboyssoccer.com/event/b-eastview/
LOCATION:Eastview High School\, 6200 140th Street West\, Apple Valley\, MN\, 55124\, United States
CATEGORIES:B Team
END:VEVENT
BEGIN:VEVENT
DTSTART;TZID=America/Chicago:20231002T144500
DTEND;TZID=America/Chicago:20231002T163000
DTSTAMP:20260419T225319
CREATED:20230820T194907Z
LAST-MODIFIED:20230820T195137Z
UID:1525-1696257900-1696264200@jaguarboyssoccer.com
SUMMARY:Training
DESCRIPTION:
URL:https://jaguarboyssoccer.com/event/training-62/
LOCATION:Jefferson High School\, 4001 W 102nd St\, Bloomington\, MN\, 55437\, United States
CATEGORIES:B Team,JV,Varsity
END:VEVENT
BEGIN:VEVENT
DTSTART;TZID=America/Chicago:20230929T160000
DTEND;TZID=America/Chicago:20230929T173000
DTSTAMP:20260419T225319
CREATED:20230731T022252Z
LAST-MODIFIED:20230731T022252Z
UID:1433-1696003200-1696008600@jaguarboyssoccer.com
SUMMARY:B vs Chaska
DESCRIPTION:
URL:https://jaguarboyssoccer.com/event/b-vs-chaska/
LOCATION:Jefferson High School\, 4001 W 102nd St\, Bloomington\, MN\, 55437\, United States
CATEGORIES:B Team
END:VEVENT
BEGIN:VEVENT
DTSTART;TZID=America/Chicago:20230929T144500
DTEND;TZID=America/Chicago:20230929T163000
DTSTAMP:20260419T225319
CREATED:20230820T195137Z
LAST-MODIFIED:20230820T195137Z
UID:1552-1695998700-1696005000@jaguarboyssoccer.com
SUMMARY:Training
DESCRIPTION:
URL:https://jaguarboyssoccer.com/event/training-82/
LOCATION:Jefferson High School\, 4001 W 102nd St\, Bloomington\, MN\, 55437\, United States
CATEGORIES:JV,Varsity
END:VEVENT
BEGIN:VEVENT
DTSTART;TZID=America/Chicago:20230928T164500
DTEND;TZID=America/Chicago:20230928T181500
DTSTAMP:20260419T225319
CREATED:20230731T022808Z
LAST-MODIFIED:20230731T022808Z
UID:1468-1695919500-1695924900@jaguarboyssoccer.com
SUMMARY:Varsity vs Chaska
DESCRIPTION:
URL:https://jaguarboyssoccer.com/event/varsity-vs-chaska/
LOCATION:Jefferson High School\, 4001 W 102nd St\, Bloomington\, MN\, 55437\, United States
CATEGORIES:Varsity
END:VEVENT
BEGIN:VEVENT
DTSTART;TZID=America/Chicago:20230928T160000
DTEND;TZID=America/Chicago:20230928T173000
DTSTAMP:20260419T225319
CREATED:20230731T022542Z
LAST-MODIFIED:20230731T022542Z
UID:1449-1695916800-1695922200@jaguarboyssoccer.com
SUMMARY:JV vs Chaska
DESCRIPTION:
URL:https://jaguarboyssoccer.com/event/jv-vs-chaska/
LOCATION:Jefferson High School\, 4001 W 102nd St\, Bloomington\, MN\, 55437\, United States
CATEGORIES:JV
END:VEVENT
BEGIN:VEVENT
DTSTART;TZID=America/Chicago:20230928T144500
DTEND;TZID=America/Chicago:20230928T163000
DTSTAMP:20260419T225319
CREATED:20230820T195137Z
LAST-MODIFIED:20230820T195137Z
UID:1551-1695912300-1695918600@jaguarboyssoccer.com
SUMMARY:Training
DESCRIPTION:
URL:https://jaguarboyssoccer.com/event/training-81/
LOCATION:Jefferson High School\, 4001 W 102nd St\, Bloomington\, MN\, 55437\, United States
CATEGORIES:B Team
END:VEVENT
BEGIN:VEVENT
DTSTART;TZID=America/Chicago:20230927T180000
DTEND;TZID=America/Chicago:20230927T193000
DTSTAMP:20260419T225319
CREATED:20230731T022808Z
LAST-MODIFIED:20230926T220517Z
UID:1467-1695837600-1695843000@jaguarboyssoccer.com
SUMMARY:Varsity vs Kennedy
DESCRIPTION:
URL:https://jaguarboyssoccer.com/event/varsity-vs-kennedy/
LOCATION:Bloomington Stadium\, 8900 Queen Ave South\, Bloomington\, MN\, 55431\, United States
CATEGORIES:Varsity
END:VEVENT
BEGIN:VEVENT
DTSTART;TZID=America/Chicago:20230927T173000
DTEND;TZID=America/Chicago:20230927T190000
DTSTAMP:20260419T225319
CREATED:20230731T022542Z
LAST-MODIFIED:20230926T220535Z
UID:1448-1695835800-1695841200@jaguarboyssoccer.com
SUMMARY:JV vs Kennedy
DESCRIPTION:
URL:https://jaguarboyssoccer.com/event/jv-vs-kennedy/
LOCATION:Jefferson High School\, 4001 W 102nd St\, Bloomington\, MN\, 55437\, United States
CATEGORIES:JV
END:VEVENT
BEGIN:VEVENT
DTSTART;TZID=America/Chicago:20230927T144500
DTEND;TZID=America/Chicago:20230927T163000
DTSTAMP:20260419T225319
CREATED:20230820T195137Z
LAST-MODIFIED:20230926T220625Z
UID:1550-1695825900-1695832200@jaguarboyssoccer.com
SUMMARY:Training
DESCRIPTION:
URL:https://jaguarboyssoccer.com/event/training-80/
LOCATION:Jefferson High School\, 4001 W 102nd St\, Bloomington\, MN\, 55437\, United States
CATEGORIES:B Team
END:VEVENT
BEGIN:VEVENT
DTSTART;TZID=America/Chicago:20230926T144500
DTEND;TZID=America/Chicago:20230926T163000
DTSTAMP:20260419T225319
CREATED:20230820T195123Z
LAST-MODIFIED:20230820T195123Z
UID:1549-1695739500-1695745800@jaguarboyssoccer.com
SUMMARY:Training
DESCRIPTION:
URL:https://jaguarboyssoccer.com/event/training-79/
LOCATION:Jefferson High School\, 4001 W 102nd St\, Bloomington\, MN\, 55437\, United States
CATEGORIES:B Team,JV,Varsity
END:VEVENT
BEGIN:VEVENT
DTSTART;TZID=America/Chicago:20230922T173000
DTEND;TZID=America/Chicago:20230922T190000
DTSTAMP:20260419T225319
CREATED:20230731T022237Z
LAST-MODIFIED:20230820T192035Z
UID:1431-1695403800-1695409200@jaguarboyssoccer.com
SUMMARY:B @ Orono
DESCRIPTION:Bus leaves 4:00pm \nBus returns 7:15pm
URL:https://jaguarboyssoccer.com/event/b-orono/
LOCATION:Orono High School\, 795 Old Crystal Bay Rd N\, Orono\, MN\, 55356\, United States
CATEGORIES:B Team
END:VEVENT
BEGIN:VEVENT
DTSTART;TZID=America/Chicago:20230922T144500
DTEND;TZID=America/Chicago:20230922T163000
DTSTAMP:20260419T225319
CREATED:20230820T195123Z
LAST-MODIFIED:20230820T195123Z
UID:1548-1695393900-1695400200@jaguarboyssoccer.com
SUMMARY:Training
DESCRIPTION:
URL:https://jaguarboyssoccer.com/event/training-78/
LOCATION:Jefferson High School\, 4001 W 102nd St\, Bloomington\, MN\, 55437\, United States
CATEGORIES:JV,Varsity
END:VEVENT
BEGIN:VEVENT
DTSTART;TZID=America/Chicago:20230921T144500
DTEND;TZID=America/Chicago:20230921T163000
DTSTAMP:20260419T225319
CREATED:20230820T195122Z
LAST-MODIFIED:20230820T195122Z
UID:1547-1695307500-1695313800@jaguarboyssoccer.com
SUMMARY:Training
DESCRIPTION:
URL:https://jaguarboyssoccer.com/event/training-77/
LOCATION:Jefferson High School\, 4001 W 102nd St\, Bloomington\, MN\, 55437\, United States
CATEGORIES:B Team,JV,Varsity
END:VEVENT
BEGIN:VEVENT
DTSTART;TZID=America/Chicago:20230920T190000
DTEND;TZID=America/Chicago:20230920T203000
DTSTAMP:20260419T225319
CREATED:20230731T022753Z
LAST-MODIFIED:20230731T022753Z
UID:1466-1695236400-1695241800@jaguarboyssoccer.com
SUMMARY:Varsity @ Orono
DESCRIPTION:
URL:https://jaguarboyssoccer.com/event/varsity-orono/
LOCATION:Orono High School\, 795 Old Crystal Bay Rd N\, Orono\, MN\, 55356\, United States
CATEGORIES:Varsity
END:VEVENT
END:VCALENDAR